BEGIN:VCALENDAR
VERSION:2.0
PRODID:-//wp-events-plugin.com//7.2.3.1//EN
TZID:America/Los_Angeles
X-WR-TIMEZONE:America/Los_Angeles
BEGIN:VEVENT
UID:17702@fakce.org
DTSTART;TZID=America/Los_Angeles:20250418T180000
DTEND;TZID=America/Los_Angeles:20250418T210000
DTSTAMP:20250216T230730Z
URL:https://fakce.org/events/online-tear-soup-2025-04-18/
SUMMARY:Online | Tear Soup
DESCRIPTION:Instructors: Nicole Espinosa\, LCSW &amp\; Jeanne Schwertfeger\
 , Resource/Adoptive Parent\nDescription: Children in foster care and adopt
 ion suﬀer many losses. Itis essential that children get the opportunity 
 to grieve their losses so they can begin their healing journey. Diﬀerent
  developmental stages and life events can trigger these losses all over ag
 ain. In this class you will learn how grief impacts not only your child bu
 t also you as a foster/adoptive family\, gain some tools to help your chil
 d &amp\; family grieve these losses\, watch a video called "Tear Soup" and
  discuss how grief is unique to each person.\n***Please Note: This class w
 ill be facilitated on the Zoom platform.\nInternet access and access to a 
 computer/laptop/tablet/smartphone is required to attend.\nWe kindly reques
 t that participants avoid using distracting virtual backgrounds. For priva
 cy\, we recommend using the blur feature instead.\nYou cannot take this cl
 ass in a vehicle.\nThe Zoom link to attend this class will be provided via
  email.\nPlease follow the link below for a brief tutorial on how to sign 
 up for a free Zoom account.\nZoom User Guide
ATTACH;FMTTYPE=image/jpeg:https://fakce.org/wp-content/uploads/2023/04/ist
 ockphoto-920732910-612x612-1.jpg
CATEGORIES:Classes,Online Classes,Specialty Classes
LOCATION:Zoom\, 0000 Zoom \, San Diego\, United States
X-APPLE-STRUCTURED-LOCATION;VALUE=URI;X-ADDRESS=0000 Zoom \, San Diego\, Un
 ited States;X-APPLE-RADIUS=100;X-TITLE=Zoom:geo:0,0
END:VEVENT
BEGIN:VTIMEZONE
TZID:America/Los_Angeles
X-LIC-LOCATION:America/Los_Angeles
BEGIN:DAYLIGHT
DTSTART:20250309T030000
TZOFFSETFROM:-0800
TZOFFSETTO:-0700
TZNAME:PDT
END:DAYLIGHT
END:VTIMEZONE
END:VCALENDAR