BEGIN:VCALENDAR
VERSION:2.0
PRODID:-//wp-events-plugin.com//7.2.3.1//EN
TZID:America/Los_Angeles
X-WR-TIMEZONE:America/Los_Angeles
BEGIN:VEVENT
UID:14256@fakce.org
DTSTART;TZID=America/Los_Angeles:20220509T180000
DTEND;TZID=America/Los_Angeles:20220509T210000
DTSTAMP:20220330T192814Z
URL:https://fakce.org/events/online-teaming-through-the-process-of-allegat
 ions-2022-05-09/
SUMMARY:Online | Teaming Through the Process of Allegations
DESCRIPTION:To avoid allegations\, it is important and crucial for you to k
 eep up‐to‐date with State regulations governing Foster Family Homes an
 d Resource Family Approval. This workshop will help participants develop a
 n increased understanding of regulations\, deﬁne what\nconstitutes a fos
 ter home allegation\, describes the most common allegations\, knows how to
  avoid allegations and licensing complaints.\nRegistration will close on M
 onday\, May 9\, 2022\, at 7am \n***Please Note: This class will be facili
 tated on the online platform called Zoom. Internet access and access to a 
 computer/laptop/tablet/smartphone is required to attend.\nThe link to atte
 nd this class will be provided at registration.\nPlease follow the link be
 low for a brief tutorial on how to sign up for a free Zoom account.\nZoom 
 User Guide
ATTACH;FMTTYPE=image/jpeg:https://fakce.org/wp-content/uploads/2016/03/boy
 -928655_1280.jpg
CATEGORIES:Classes,Online Classes,Specialty Classes
LOCATION:The Patio\, Emjaye Inspired\, 10455 Pomerado Road\, San Diego\, CA
 \, 92131\, United States
GEO:32.896581;-117.094454
X-APPLE-STRUCTURED-LOCATION;VALUE=URI;X-ADDRESS=10455 Pomerado Road\, San D
 iego\, CA\, 92131\, United States;X-APPLE-RADIUS=100;X-TITLE=The Patio\, E
 mjaye Inspired:geo:32.896581,-117.094454
END:VEVENT
BEGIN:VTIMEZONE
TZID:America/Los_Angeles
X-LIC-LOCATION:America/Los_Angeles
BEGIN:DAYLIGHT
DTSTART:20220313T030000
TZOFFSETFROM:-0800
TZOFFSETTO:-0700
TZNAME:PDT
END:DAYLIGHT
END:VTIMEZONE
END:VCALENDAR