BEGIN:VCALENDAR
VERSION:2.0
PRODID:-//wp-events-plugin.com//7.2.3.1//EN
TZID:America/Los_Angeles
X-WR-TIMEZONE:America/Los_Angeles
BEGIN:VEVENT
UID:17703@fakce.org
DTSTART;TZID=America/Los_Angeles:20250421T180000
DTEND;TZID=America/Los_Angeles:20250421T200000
DTSTAMP:20250218T170029Z
URL:https://fakce.org/events/online-teaching-your-kids-about-financial-lit
 eracy-privacy-digital-footprint-2025-04-21/
SUMMARY:Online | Teaching Your Kids About Financial Literacy & Privacy/Digi
 tal Footprint
DESCRIPTION:In Partnership with\n\n\nInstructors: Taralyn Rose ‐ Manager\
 , Financial Fitness &amp\; Coaching at Cal Coast Credit Union &amp\; Kue L
 ee ‐ Director of Targeted Outreach at DFPI\nDescription: In partnership 
 with Cal Coast Credit Union\, this educational session covers two vital to
 pics for your family’s growth and security:\n\n\n 	Teaching Your Kids Ab
 out Financial Literacy: Learn the ways you can teach healthy personal fina
 nce habits to your children and how to help set them up for financial succ
 ess.\n 	Privacy/Digital Footprint: Learn the various ways your information
  is stored online and how to safely manage your digital identity.\n\n.\n**
 *Please Note: This class will be facilitated on the Zoom platform.\nIntern
 et access and access to a computer/laptop/tablet/smartphone is required to
  attend.\nWe kindly request that participants avoid using distracting virt
 ual backgrounds. For privacy\, we recommend using the blur feature instead
 .\nYou cannot take this class in a vehicle.\nThe Zoom link to attend this 
 class will be provided via email.\nPlease follow the link below for a brie
 f tutorial on how to sign up for a free Zoom account.\nZoom User Guide
ATTACH;FMTTYPE=image/jpeg:https://fakce.org/wp-content/uploads/2016/08/Fat
 her-reading-to-child.jpg
CATEGORIES:Classes,Online Classes,Specialty Classes
LOCATION:Zoom\, 0000 Zoom \, San Diego\, United States
X-APPLE-STRUCTURED-LOCATION;VALUE=URI;X-ADDRESS=0000 Zoom \, San Diego\, Un
 ited States;X-APPLE-RADIUS=100;X-TITLE=Zoom:geo:0,0
END:VEVENT
BEGIN:VTIMEZONE
TZID:America/Los_Angeles
X-LIC-LOCATION:America/Los_Angeles
BEGIN:DAYLIGHT
DTSTART:20250309T030000
TZOFFSETFROM:-0800
TZOFFSETTO:-0700
TZNAME:PDT
END:DAYLIGHT
END:VTIMEZONE
END:VCALENDAR