BEGIN:VCALENDAR
VERSION:2.0
PRODID:-//wp-events-plugin.com//7.2.3.1//EN
TZID:America/Los_Angeles
X-WR-TIMEZONE:America/Los_Angeles
BEGIN:VEVENT
UID:17320@fakce.org
DTSTART;TZID=America/Los_Angeles:20241214T090000
DTEND;TZID=America/Los_Angeles:20241214T120000
DTSTAMP:20241211T221957Z
URL:https://fakce.org/events/online-take-a-chance-on-me-teen-adoption-2024
 -12-14/
SUMMARY:Online | Take a Chance on Me: Teen Adoption
DESCRIPTION:Instructors: Nicole Espinosa\, LCSW\nHave you ever thought teen
 agers are past the point of helping or I can’t imagine adopting a teenag
 er? You are not alone. In this class we will watch the documentary ﬁlm 
 “Take A Chance On Me” and hear Darrian’s inspiring adoption story. Y
 ou will discover the rewards of adopting teens\, the support services avai
 lable and why teens need and deserve families too!\n&nbsp\;\nRegistration 
 will close on Friday\, December 13\, 2024 at 12 pm \n***Please Note: Thi
 s support group will be facilitated on the online platform called Zoom. In
 ternet access and access to a computer/laptop/tablet/smartphone is require
 d to attend.\nThe link to attend this class will be provided at registrati
 on.\nPlease follow the link below for a brief tutorial on how to sign up f
 or a free Zoom account.\nZoom User Guide
ATTACH;FMTTYPE=image/jpeg:https://fakce.org/wp-content/uploads/2023/04/ist
 ockphoto-1313553003-612x612-1.jpg
CATEGORIES:Classes,Online Classes,Specialty Classes
LOCATION:Zoom\, 0000 Zoom \, San Diego\, United States
X-APPLE-STRUCTURED-LOCATION;VALUE=URI;X-ADDRESS=0000 Zoom \, San Diego\, Un
 ited States;X-APPLE-RADIUS=100;X-TITLE=Zoom:geo:0,0
END:VEVENT
BEGIN:VTIMEZONE
TZID:America/Los_Angeles
X-LIC-LOCATION:America/Los_Angeles
BEGIN:STANDARD
DTSTART:20241103T010000
TZOFFSETFROM:-0700
TZOFFSETTO:-0800
TZNAME:PST
END:STANDARD
END:VTIMEZONE
END:VCALENDAR