BEGIN:VCALENDAR
VERSION:2.0
PRODID:-//wp-events-plugin.com//7.2.3.1//EN
TZID:America/Los_Angeles
X-WR-TIMEZONE:America/Los_Angeles
BEGIN:VEVENT
UID:18401@fakce.org
DTSTART;TZID=America/Los_Angeles:20260225T180000
DTEND;TZID=America/Los_Angeles:20260225T200000
DTSTAMP:20260117T145032Z
URL:https://fakce.org/events/online-supportive-strategies-for-resource-hom
 es-new-name-previously-nest-support-group-seeing-the-positive-in-kids-with
 -negative-behavior-2026-02-25/
SUMMARY:Online | Supportive Strategies for Resource Homes (New Name-Previou
 sly NEST) Support Group: Seeing the Positive in Kids with Negative Behavio
 r
DESCRIPTION:Meets 4th Wednesday of the Month\n**No meeting in November &amp
 \; December**\nSupport Group Leader: MaryJo Meer\n\nTopic: Oftentimes\, 
 children communicate with us through their behavior\, including negative b
 ehaviors. This workshop will help to break down and understand negative be
 haviors by learning about the mistaken goals\, but also how trauma can imp
 act how our children communicate with us.\n***Please Note: This class will
  be facilitated on the Zoom platform.\n Internet access and access to a co
 mputer/laptop/tablet/smartphone is required to attend.\nFor our support gr
 oup meetings\, all participants must have their cameras on\, regardless o
 f whether they are seeking credit or not. This requirement is designed to 
 encourage full engagement and connection among participants\, fostering a 
 more supportive atmosphere within our community. Please note that individu
 als unable to participate with their cameras on will not be able to join t
 he support group sessions.\nWe kindly request that participants avoid usin
 g distracting virtual backgrounds. For privacy\, we recommend using the bl
 ur feature instead.\nYou cannot take this class in a vehicle.\nThe link to
  attend this class will be provided via email.\nPlease follow the link bel
 ow for a brief tutorial on how to sign up for a free Zoom account.\nZoom U
 ser Guide\n&nbsp\;
ATTACH;FMTTYPE=image/jpeg:https://fakce.org/wp-content/uploads/2015/03/CAP
 0034D.jpg
CATEGORIES:Classes,Online Classes,Support Groups,Workshops
LOCATION:Zoom\, 0000 Zoom \, San Diego\, United States
X-APPLE-STRUCTURED-LOCATION;VALUE=URI;X-ADDRESS=0000 Zoom \, San Diego\, Un
 ited States;X-APPLE-RADIUS=100;X-TITLE=Zoom:geo:0,0
END:VEVENT
BEGIN:VTIMEZONE
TZID:America/Los_Angeles
X-LIC-LOCATION:America/Los_Angeles
BEGIN:STANDARD
DTSTART:20251102T010000
TZOFFSETFROM:-0700
TZOFFSETTO:-0800
TZNAME:PST
END:STANDARD
END:VTIMEZONE
END:VCALENDAR