BEGIN:VCALENDAR
VERSION:2.0
PRODID:-//wp-events-plugin.com//7.2.3.1//EN
TZID:America/Los_Angeles
X-WR-TIMEZONE:America/Los_Angeles
BEGIN:VEVENT
UID:18400@fakce.org
DTSTART;TZID=America/Los_Angeles:20260128T180000
DTEND;TZID=America/Los_Angeles:20260128T200000
DTSTAMP:20260115T190933Z
URL:https://fakce.org/events/online-supportive-strategies-for-resource-hom
 es-new-name-previously-nest-support-group-level-of-care-loc-2026-01-28/
SUMMARY:Online | Supportive Strategies for Resource Homes (New Name-Previou
 sly NEST) Support Group: Level of Care (LOC)
DESCRIPTION:Meets 4th Wednesday of the Month\nSupport Group Leader: MaryJo
  Meer\n\nTopic:  The Level of Care Protocol (LOCP) Matrix is a tool that
  addresses the daily care activities being conducted by the Resource Famil
 y to meet the needs of the youth in their care. The matrix consists of fiv
 e areas of well-being known as core domains and includes Physical\, Behavi
 oral/Emotional\, Education\, Health\, and Permanency/Family Services. Join
  us to speak to a LOC specialist\, learn about how this works for your fam
 ily and get answers to your questions.\n***Please Note: This class will be
  facilitated on the Zoom platform.\n Internet access and access to a compu
 ter/laptop/tablet/smartphone is required to attend.\nFor our support group
  meetings\, all participants must have their cameras on\, regardless of w
 hether they are seeking credit or not. This requirement is designed to enc
 ourage full engagement and connection among participants\, fostering a mor
 e supportive atmosphere within our community. Please note that individuals
  unable to participate with their cameras on will not be able to join the 
 support group sessions.\nWe kindly request that participants avoid using d
 istracting virtual backgrounds. For privacy\, we recommend using the blur 
 feature instead.\nYou cannot take this class in a vehicle.\nThe link to at
 tend this class will be provided via email.\nPlease follow the link below 
 for a brief tutorial on how to sign up for a free Zoom account.\nZoom User
  Guide\n&nbsp\;
ATTACH;FMTTYPE=image/jpeg:https://fakce.org/wp-content/uploads/2015/03/CAP
 0034D.jpg
CATEGORIES:Classes,Online Classes,Support Groups,Workshops
LOCATION:Zoom\, 0000 Zoom \, San Diego\, United States
X-APPLE-STRUCTURED-LOCATION;VALUE=URI;X-ADDRESS=0000 Zoom \, San Diego\, Un
 ited States;X-APPLE-RADIUS=100;X-TITLE=Zoom:geo:0,0
END:VEVENT
BEGIN:VTIMEZONE
TZID:America/Los_Angeles
X-LIC-LOCATION:America/Los_Angeles
BEGIN:STANDARD
DTSTART:20251102T010000
TZOFFSETFROM:-0700
TZOFFSETTO:-0800
TZNAME:PST
END:STANDARD
END:VTIMEZONE
END:VCALENDAR