BEGIN:VCALENDAR
VERSION:2.0
PRODID:-//wp-events-plugin.com//7.2.3.1//EN
TZID:America/Los_Angeles
X-WR-TIMEZONE:America/Los_Angeles
BEGIN:VEVENT
UID:18678@fakce.org
DTSTART;TZID=America/Los_Angeles:20260331T100000
DTEND;TZID=America/Los_Angeles:20260331T130000
DTSTAMP:20260220T195537Z
URL:https://fakce.org/events/online-supporting-children-in-developing-emot
 ional-intelligence-2026-03-31/
SUMMARY:Online | Supporting Children in Developing Emotional Intelligence
DESCRIPTION:Description: Children who have experienced trauma may have last
 ing impacts that aﬀect their relationships and emotions. They may percei
 ve certain situations as dangerous and rightfully respond to triggers with
  fear or anger without understanding why. Children may internalize troubli
 ng feelings\, making healthy attachment and emotion management\nchallengin
 g. That’s why it’s important for caregivers to use social-emotional le
 arning and parenting skills that help children develop emotional intellige
 nce and healthy relationship skills.\n\nThe Foster-Adoptive Parents Toolsh
 op® training series is a comprehensive 30+ hour evidence-based\, trauma i
 nformed parenting curriculum for foster and kinship caregivers and adoptiv
 e parents. The entire series will be oﬀered over the next 8 months\, Sep
 tember 2022\, June 2023 and will be taught by the curriculum’s author Jo
 dy Johnston Pawel\, LSW\, CFLE\, CTSS.\nWhile each individual workshop is 
 valuable as a stand-alone workshop\, when combined they create a parenting
  system called The Universal Blueprint® for Parenting Success. You can us
 e this universal system to prevent common parenting challenges and plan pe
 rsonalized responses and solutions to those that arise\, based on the chil
 d\, circumstance\, and family involved. The series oﬀers an overview of 
 the system and its tools\, plus the in-depth workshops in order\, so they 
 build on each other.\nGuest Instructor: Jody Johnston-Pawel\, LSW\, CFLE\n
 Jody Johnston Pawel is a Licensed Social Worker in the State of Ohio and a
  Certified Family Life Educator. She is the author of the award-winning Th
 e Parent’s Toolshop® book and Founder/CEO of the Relationship Toolshop
 ® International Training Institute. LLC.\n\n&nbsp\;\n***Please Note: This
  class will be facilitated on the Zoom platform.\nInternet access and acce
 ss to a computer/laptop/tablet/smartphone is required to attend.\nWe kindl
 y request that participants avoid using distracting virtual backgrounds. F
 or privacy\, we recommend using the blur feature instead.\nYou cannot take
  this class in a vehicle.\nThe Zoom link to attend this class will be prov
 ided via email.\nPlease follow the link below for a brief tutorial on how 
 to sign up for a free Zoom account.\nZoom User Guide
ATTACH;FMTTYPE=image/jpeg:https://fakce.org/wp-content/uploads/2022/07/His
 panic-Family2.jpg
CATEGORIES:Classes,Online Classes,Specialty Classes
LOCATION:Zoom\, 0000 Zoom \, San Diego\, United States
X-APPLE-STRUCTURED-LOCATION;VALUE=URI;X-ADDRESS=0000 Zoom \, San Diego\, Un
 ited States;X-APPLE-RADIUS=100;X-TITLE=Zoom:geo:0,0
END:VEVENT
BEGIN:VTIMEZONE
TZID:America/Los_Angeles
X-LIC-LOCATION:America/Los_Angeles
BEGIN:DAYLIGHT
DTSTART:20260308T030000
TZOFFSETFROM:-0800
TZOFFSETTO:-0700
TZNAME:PDT
END:DAYLIGHT
END:VTIMEZONE
END:VCALENDAR