BEGIN:VCALENDAR
VERSION:2.0
PRODID:-//wp-events-plugin.com//7.2.3.1//EN
TZID:America/Los_Angeles
X-WR-TIMEZONE:America/Los_Angeles
BEGIN:VEVENT
UID:17221@fakce.org
DTSTART;TZID=America/Los_Angeles:20240924T180000
DTEND;TZID=America/Los_Angeles:20240924T200000
DTSTAMP:20240807T211713Z
URL:https://fakce.org/events/online-suicide-prevention-2024-09-24/
SUMMARY:Online | Suicide Prevention
DESCRIPTION:Instructors: Representatives from Scripps Mercy Hospital’s We
 ll Being\nFoster children can experience traumatic episodes that can lead 
 to negative thoughts such as suicide. This course provides parents the too
 ls to identify suicidal thoughts and behaviors before they occur. Instruct
 ors will provide information on the actions needed to take if one’s chil
 d is having thoughts of harming themselves.\nRegistration will close on Tu
 esday\, September 24\, 2024\, at 7 am\n&nbsp\;\n***Please Note: This class
  will be facilitated on the online platform called Zoom. Internet access a
 nd access to a computer/laptop/tablet/smartphone is required to attend.\nT
 he link to attend this class will be provided at registration.\nPlease fol
 low the link below for a brief tutorial on how to sign up for a free Zoom 
 account.\nZoom User Guide
ATTACH;FMTTYPE=image/jpeg:https://fakce.org/wp-content/uploads/2023/04/ist
 ockphoto-920732910-612x612-1.jpg
CATEGORIES:Classes,Online Classes,Specialty Classes
LOCATION:Zoom\, 0000 Zoom \, San Diego\, United States
X-APPLE-STRUCTURED-LOCATION;VALUE=URI;X-ADDRESS=0000 Zoom \, San Diego\, Un
 ited States;X-APPLE-RADIUS=100;X-TITLE=Zoom:geo:0,0
END:VEVENT
BEGIN:VTIMEZONE
TZID:America/Los_Angeles
X-LIC-LOCATION:America/Los_Angeles
BEGIN:DAYLIGHT
DTSTART:20240310T030000
TZOFFSETFROM:-0800
TZOFFSETTO:-0700
TZNAME:PDT
END:DAYLIGHT
END:VTIMEZONE
END:VCALENDAR