BEGIN:VCALENDAR
VERSION:2.0
PRODID:-//wp-events-plugin.com//7.2.3.1//EN
TZID:America/Los_Angeles
X-WR-TIMEZONE:America/Los_Angeles
BEGIN:VEVENT
UID:13966@fakce.org
DTSTART;TZID=America/Los_Angeles:20220208T180000
DTEND;TZID=America/Los_Angeles:20220208T200000
DTSTAMP:20211210T221907Z
URL:https://fakce.org/events/online-suicide-prevention-2022-02-08/
SUMMARY:Online | Suicide Prevention
DESCRIPTION:Foster children can experience traumatic episodes that can lead
  to negative thoughts such as suicide. This course provides parents the t
 ools to identify suicidal thoughts and behaviors before they occur. Instru
 ctors will provide information on the actions needed to take if one’s ch
 ild is having thoughts of harming themselves.\nRegistration will close on 
 Tuesday\, February 8\, 2022 at 7am\n***Please Note: This class will be fac
 ilitated on the online platform called Zoom. Internet access and access to
  a computer/laptop/tablet/smartphone is required to attend.\nThe link to a
 ttend this class will be provided at registration.\nPlease follow the link
  below for a brief tutorial on how to sign up for a free Zoom account.\nZo
 om User Guide
ATTACH;FMTTYPE=image/jpeg:https://fakce.org/wp-content/uploads/2021/05/Fly
 ing-Boy.jpg
CATEGORIES:Classes,Online Classes,Specialty Classes
LOCATION:Zoom\, 0000 Zoom \, San Diego\, United States
X-APPLE-STRUCTURED-LOCATION;VALUE=URI;X-ADDRESS=0000 Zoom \, San Diego\, Un
 ited States;X-APPLE-RADIUS=100;X-TITLE=Zoom:geo:0,0
END:VEVENT
BEGIN:VTIMEZONE
TZID:America/Los_Angeles
X-LIC-LOCATION:America/Los_Angeles
BEGIN:STANDARD
DTSTART:20211107T010000
TZOFFSETFROM:-0700
TZOFFSETTO:-0800
TZNAME:PST
END:STANDARD
END:VTIMEZONE
END:VCALENDAR