BEGIN:VCALENDAR
VERSION:2.0
PRODID:-//wp-events-plugin.com//7.2.3.1//EN
TZID:America/Los_Angeles
X-WR-TIMEZONE:America/Los_Angeles
BEGIN:VEVENT
UID:18677@fakce.org
DTSTART;TZID=America/Los_Angeles:20260331T180000
DTEND;TZID=America/Los_Angeles:20260331T200000
DTSTAMP:20260220T194955Z
URL:https://fakce.org/events/online-substance-abuse-among-youth-2026-03-31
 /
SUMMARY:Online | Substance Abuse Among Youth
DESCRIPTION:Instructor: Representative from Scripps Mercy Hospital’s Well
  Being\n\nDescription: This class will address substance use trends among 
 youth\, warning signs to look for\, and how to talk to children about drug
 s and alcohol. Resources for prevention and intervention will be provided.
 \n \n***Please Note: This class will be facilitated on the online platfor
 m called Zoom. Internet access and access to a computer/laptop/tablet/smar
 tphone is required to attend.\nThe link to attend this class will be provi
 ded at registration.\nPlease follow the link below for a brief tutorial on
  how to sign up for a free Zoom account.\nZoom User Guide
ATTACH;FMTTYPE=image/jpeg:https://fakce.org/wp-content/uploads/2016/07/fak
 e-drugs-real-risk.jpg
CATEGORIES:Classes,Online Classes,Specialty Classes
LOCATION:Zoom\, 0000 Zoom \, San Diego\, United States
X-APPLE-STRUCTURED-LOCATION;VALUE=URI;X-ADDRESS=0000 Zoom \, San Diego\, Un
 ited States;X-APPLE-RADIUS=100;X-TITLE=Zoom:geo:0,0
END:VEVENT
BEGIN:VTIMEZONE
TZID:America/Los_Angeles
X-LIC-LOCATION:America/Los_Angeles
BEGIN:DAYLIGHT
DTSTART:20260308T030000
TZOFFSETFROM:-0800
TZOFFSETTO:-0700
TZNAME:PDT
END:DAYLIGHT
END:VTIMEZONE
END:VCALENDAR