BEGIN:VCALENDAR
VERSION:2.0
PRODID:-//wp-events-plugin.com//7.2.3.1//EN
TZID:America/Los_Angeles
X-WR-TIMEZONE:America/Los_Angeles
BEGIN:VEVENT
UID:15383@fakce.org
DTSTART;TZID=America/Los_Angeles:20260423T100000
DTEND;TZID=America/Los_Angeles:20260423T120000
DTSTAMP:20260205T133148Z
URL:https://fakce.org/events/online-southeast-support-group-power-up-paren
 ting-2026-04-23/
SUMMARY:Online | Southeast Support Group: Power Up Parenting
DESCRIPTION:Meets every 4th Thursday of each month\n**No Meeting June\, Jul
 y\, August\, November &amp\; December**\nLeader: Brenda Jones\n\nTopic: P
 ower-Up Parenting workshops are created to empower parents with practical 
 skills and strategies that foster independent learning in their children. 
 This class will focus on helping parents discover effective methods to tea
 ch children how to make healthy\, self-directed choices. By participating\
 , parents will gain tools to encourage their children's academic achieveme
 nt and social development\, supporting their overall success both in schoo
 l and everyday life.\n***Please Note: This class will be facilitated on th
 e Zoom platform.\n Internet access and access to a computer/laptop/tablet/
 smartphone is required to attend.\nFor our support group meetings\, all pa
 rticipants must have their cameras on\, regardless of whether they are se
 eking credit or not. This requirement is designed to encourage full engage
 ment and connection among participants\, fostering a more supportive atmos
 phere within our community. Please note that individuals unable to partici
 pate with their cameras on will not be able to join the support group sess
 ions.\nWe kindly request that participants avoid using distracting virtual
  backgrounds. For privacy\, we recommend using the blur feature instead.\n
 You cannot take this class in a vehicle.\nThe link to attend this class wi
 ll be provided via email.\nPlease follow the link below for a brief tutori
 al on how to sign up for a free Zoom account.\nZoom User Guide\n&nbsp\;
ATTACH;FMTTYPE=image/jpeg:https://fakce.org/wp-content/uploads/2015/03/AA0
 47041.jpg
CATEGORIES:Classes,Online Classes,Support Groups,Workshops
LOCATION:Zoom\, 0000 Zoom \, San Diego\, United States
X-APPLE-STRUCTURED-LOCATION;VALUE=URI;X-ADDRESS=0000 Zoom \, San Diego\, Un
 ited States;X-APPLE-RADIUS=100;X-TITLE=Zoom:geo:0,0
END:VEVENT
BEGIN:VTIMEZONE
TZID:America/Los_Angeles
X-LIC-LOCATION:America/Los_Angeles
BEGIN:DAYLIGHT
DTSTART:20260308T030000
TZOFFSETFROM:-0800
TZOFFSETTO:-0700
TZNAME:PDT
END:DAYLIGHT
END:VTIMEZONE
END:VCALENDAR