BEGIN:VCALENDAR
VERSION:2.0
PRODID:-//wp-events-plugin.com//7.2.3.1//EN
TZID:America/Los_Angeles
X-WR-TIMEZONE:America/Los_Angeles
BEGIN:VEVENT
UID:18272@fakce.org
DTSTART;TZID=America/Los_Angeles:20260128T093000
DTEND;TZID=America/Los_Angeles:20260128T113000
DTSTAMP:20260109T204215Z
URL:https://fakce.org/events/online-south-bay-support-group-seeing-the-pos
 itive-in-kids-with-negative-behavior-2026-01-28/
SUMMARY:Online | South Bay Support Group: Seeing the Positive in Kids with 
 Negative Behavior
DESCRIPTION:Meets every 4th Wednesday of the month \n**No meeting in Novem
 ber &amp\; December**\nSupport Group Leader: Rosie Villegas\n\nTopic: Oft
 entimes\, children communicate with us through their behavior\, including 
 negative behaviors. This workshop will help to break down and understand n
 egative behaviors by learning about the mistaken goals\, but also how trau
 ma can impact how our children communicate to us.\n***Please Note: This cl
 ass will be facilitated on the Zoom platform.\n Internet access and access
  to a computer/laptop/tablet/smartphone is required to attend.\nFor our su
 pport group meetings\, all participants must have their cameras on\, rega
 rdless of whether they are seeking credit or not. This requirement is desi
 gned to encourage full engagement and connection among participants\, fost
 ering a more supportive atmosphere within our community. Please note that 
 individuals unable to participate with their cameras on will not be able t
 o join the support group sessions.\nWe kindly request that participants av
 oid using distracting virtual backgrounds. For privacy\, we recommend usin
 g the blur feature instead.\nYou cannot take this class in a vehicle.\nThe
  link to attend this class will be provided via email.\nPlease follow the 
 link below for a brief tutorial on how to sign up for a free Zoom account.
 \nZoom User Guide
ATTACH;FMTTYPE=image/jpeg:https://fakce.org/wp-content/uploads/2016/07/565
 b9c15c3a1d06b683e27aa325a23bd2914d9bd.jpg
CATEGORIES:Classes,Online Classes,Support Groups,Workshops
LOCATION:Zoom\, 0000 Zoom \, San Diego\, United States
X-APPLE-STRUCTURED-LOCATION;VALUE=URI;X-ADDRESS=0000 Zoom \, San Diego\, Un
 ited States;X-APPLE-RADIUS=100;X-TITLE=Zoom:geo:0,0
END:VEVENT
BEGIN:VTIMEZONE
TZID:America/Los_Angeles
X-LIC-LOCATION:America/Los_Angeles
BEGIN:STANDARD
DTSTART:20251102T010000
TZOFFSETFROM:-0700
TZOFFSETTO:-0800
TZNAME:PST
END:STANDARD
END:VTIMEZONE
END:VCALENDAR