BEGIN:VCALENDAR
VERSION:2.0
PRODID:-//wp-events-plugin.com//7.2.3.1//EN
TZID:America/Los_Angeles
X-WR-TIMEZONE:America/Los_Angeles
BEGIN:VEVENT
UID:15830@fakce.org
DTSTART;TZID=America/Los_Angeles:20230828T180000
DTEND;TZID=America/Los_Angeles:20230828T210000
DTSTAMP:20230613T190801Z
URL:https://fakce.org/events/online-sibling-placement-and-visitation-kinsh
 ip-series-2023-08-28/
SUMMARY:Online | Sibling Placement and Visitation Kinship Series)
DESCRIPTION:Special Guest Trainer: Heidi Blue\, MSW\n\n\nThere are federal 
 mandates that require states to either keep siblings together in foster ca
 re or ensure that visitation occurs between siblings that must be separate
 d. We will discuss what this means for foster children and how we can advo
 cate for them.\n Registration will close on Monday\, August 28\, 2023 at 
 7 am \n&nbsp\;\n***Please Note: This class will be facilitated on the onl
 ine platform called Zoom. Internet access and access to a computer/laptop/
 tablet/smartphone is required to attend.\nThe link to attend this class wi
 ll be provided at registration.\nPlease follow the link below for a brief 
 tutorial on how to sign up for a free Zoom account.\nZoom User Guide
ATTACH;FMTTYPE=image/jpeg:https://fakce.org/wp-content/uploads/2023/04/ist
 ockphoto-1313553003-612x612-1.jpg
CATEGORIES:Classes,Online Classes,Specialty Classes
LOCATION:Zoom\, 0000 Zoom \, San Diego\, United States
X-APPLE-STRUCTURED-LOCATION;VALUE=URI;X-ADDRESS=0000 Zoom \, San Diego\, Un
 ited States;X-APPLE-RADIUS=100;X-TITLE=Zoom:geo:0,0
END:VEVENT
BEGIN:VTIMEZONE
TZID:America/Los_Angeles
X-LIC-LOCATION:America/Los_Angeles
BEGIN:DAYLIGHT
DTSTART:20230312T030000
TZOFFSETFROM:-0800
TZOFFSETTO:-0700
TZNAME:PDT
END:DAYLIGHT
END:VTIMEZONE
END:VCALENDAR