BEGIN:VCALENDAR
VERSION:2.0
PRODID:-//wp-events-plugin.com//7.2.3.1//EN
TZID:America/Los_Angeles
X-WR-TIMEZONE:America/Los_Angeles
BEGIN:VEVENT
UID:14786@fakce.org
DTSTART;TZID=America/Los_Angeles:20221025T180000
DTEND;TZID=America/Los_Angeles:20221025T200000
DTSTAMP:20220819T185803Z
URL:https://fakce.org/events/online-self-care-2022-10-25/
SUMMARY:Online | Self Care
DESCRIPTION:This workshop will teach parents about the importance of self
 ‐care and how it relates to parenting\, managing stress (coping with da
 ily stress and frustration)\, and provide examples of self‐care activiti
 es. Parents will also identify\, recognize\, and understand stress levels 
 and how to minimize its toxic eﬀects.\nRegistration will close on Tuesda
 y\, October 24\, 2022\, at 7 am \n***Please Note: This class will be faci
 litated on the online platform called Zoom. Internet access and access to 
 a computer/laptop/tablet/smartphone is required to attend.\nThe link to at
 tend this class will be provided at registration.\nPlease follow the link 
 below for a brief tutorial on how to sign up for a free Zoom account.\nZoo
 m User Guide
ATTACH;FMTTYPE=image/jpeg:https://fakce.org/wp-content/uploads/2021/05/Asi
 an-Family.jpg
CATEGORIES:Classes,Online Classes,Specialty Classes
LOCATION:Zoom\, 0000 Zoom \, San Diego\, United States
X-APPLE-STRUCTURED-LOCATION;VALUE=URI;X-ADDRESS=0000 Zoom \, San Diego\, Un
 ited States;X-APPLE-RADIUS=100;X-TITLE=Zoom:geo:0,0
END:VEVENT
BEGIN:VTIMEZONE
TZID:America/Los_Angeles
X-LIC-LOCATION:America/Los_Angeles
BEGIN:DAYLIGHT
DTSTART:20220313T030000
TZOFFSETFROM:-0800
TZOFFSETTO:-0700
TZNAME:PDT
END:DAYLIGHT
END:VTIMEZONE
END:VCALENDAR