BEGIN:VCALENDAR
VERSION:2.0
PRODID:-//wp-events-plugin.com//7.2.3.1//EN
TZID:America/Los_Angeles
X-WR-TIMEZONE:America/Los_Angeles
BEGIN:VEVENT
UID:14820@fakce.org
DTSTART;TZID=America/Los_Angeles:20221115T180000
DTEND;TZID=America/Los_Angeles:20221115T200000
DTSTAMP:20221007T054933Z
URL:https://fakce.org/events/online-screen-time-and-its-e%ef%ac%80ects-on-
 health-2022-11-15/
SUMMARY:Online | Screen Time and It's Eﬀects on Health
DESCRIPTION:The American Academy of Child and Adolescent Psychiatry states
  that the average US child between 8‐12 years old spends 4 to 6 hours wa
 tching or using a screen and teenagers spend up to 9 hours a day. Too muc
 h screen time can lead to things like sleep deprivation\, physical strain 
 to your eyes and body\, and impaired socializing skills. It can also lead 
 to things like poor self‐image\, mood problems\, cyberbullying\, and wat
 ching videos of stunts or challenges that may inspire unsafe behaviors. Gu
 ardians who take this class will learn the diﬀerent eﬀects of too much
  screen‐time\, how to develop a screen‐time plan with your family\, an
 d how to encourage screen‐ free activities.\nRegistration will close on 
 Tuesday\, November 15\, 2022\, at 7am \n***Please Note: This class will 
 be facilitated on the online platform called Zoom. Internet access and acc
 ess to a computer/laptop/tablet/smartphone is required to attend.\nThe lin
 k to attend this class will be provided at registration.\nPlease follow th
 e link below for a brief tutorial on how to sign up for a free Zoom accoun
 t.\nZoom User Guide
ATTACH;FMTTYPE=image/jpeg:https://fakce.org/wp-content/uploads/2021/05/Asi
 an-Family.jpg
CATEGORIES:Classes,Online Classes,Specialty Classes
LOCATION:Zoom\, 0000 Zoom \, San Diego\, United States
X-APPLE-STRUCTURED-LOCATION;VALUE=URI;X-ADDRESS=0000 Zoom \, San Diego\, Un
 ited States;X-APPLE-RADIUS=100;X-TITLE=Zoom:geo:0,0
END:VEVENT
BEGIN:VTIMEZONE
TZID:America/Los_Angeles
X-LIC-LOCATION:America/Los_Angeles
BEGIN:STANDARD
DTSTART:20221106T010000
TZOFFSETFROM:-0700
TZOFFSETTO:-0800
TZNAME:PST
END:STANDARD
END:VTIMEZONE
END:VCALENDAR