BEGIN:VCALENDAR
VERSION:2.0
PRODID:-//wp-events-plugin.com//7.2.3.1//EN
TZID:America/Los_Angeles
X-WR-TIMEZONE:America/Los_Angeles
BEGIN:VEVENT
UID:14600@fakce.org
DTSTART;TZID=America/Los_Angeles:20220719T150000
DTEND;TZID=America/Los_Angeles:20220719T180000
DTSTAMP:20220608T192114Z
URL:https://fakce.org/events/online-save-your-stars-how-to-foster-self%e2%
 80%90motivation-cooperation-independence-and-prevent-many-problems-without
 -stickers-2022-07-19/
SUMMARY:Online | Save Your Stars! How to Foster Self‐Motivation\, Coopera
 tion\, Independence\, and Prevent Many  Problems without Stickers
DESCRIPTION:Guest Instructor: Jody Johnston-Pawel\, LSW\, CFLE\n\nLearn the
  top ten most eﬀective and practical language and action tools for foste
 ring internal motivation\, building self‐esteem\, getting cooperation\, 
 and teaching children tasks\, behaviors\, values and self-responsibility. 
 Get short‐term results and long‐term beneﬁts — without stickers or
  using power struggles and tantrums.\nRegistration will close on Tuesday\,
  July 19\, 2022\, at 7 am \n***Please Note: This class will be facilitate
 d on the online platform called Zoom. Internet access and access to a comp
 uter/laptop/tablet/smartphone is required to attend.\nThe link to attend t
 his class will be provided at registration.\nPlease follow the link below 
 for a brief tutorial on how to sign up for a free Zoom account.\nZoom User
  Guide
ATTACH;FMTTYPE=image/jpeg:https://fakce.org/wp-content/uploads/2016/07/fri
 endship-468851_1280.jpg
CATEGORIES:Classes,Online Classes,Specialty Classes
LOCATION:Zoom\, 0000 Zoom \, San Diego\, United States
X-APPLE-STRUCTURED-LOCATION;VALUE=URI;X-ADDRESS=0000 Zoom \, San Diego\, Un
 ited States;X-APPLE-RADIUS=100;X-TITLE=Zoom:geo:0,0
END:VEVENT
BEGIN:VTIMEZONE
TZID:America/Los_Angeles
X-LIC-LOCATION:America/Los_Angeles
BEGIN:DAYLIGHT
DTSTART:20220313T030000
TZOFFSETFROM:-0800
TZOFFSETTO:-0700
TZNAME:PDT
END:DAYLIGHT
END:VTIMEZONE
END:VCALENDAR