BEGIN:VCALENDAR
VERSION:2.0
PRODID:-//wp-events-plugin.com//7.2.3.1//EN
TZID:America/Los_Angeles
X-WR-TIMEZONE:America/Los_Angeles
BEGIN:VEVENT
UID:13692@fakce.org
DTSTART;TZID=America/Los_Angeles:20221028T093000
DTEND;TZID=America/Los_Angeles:20221028T113000
DTSTAMP:20220824T144812Z
URL:https://fakce.org/events/online-san-diego-southeast-encanto-morning-su
 pport-group-2022-10-28/
SUMMARY:Online | San Diego Southeast/Encanto - Morning Support Group: Afric
 an American & Biracial Hair Care
DESCRIPTION:Meets every 4th Friday of the month\n***No meetings in July\, A
 ugust and December 2022***\nSupport Group Leader: Lorraine Mattox\n\nTopi
 c: Are you having trouble taking care of your child’s biracial hair? W
 e know that for many of you this can be a confusing time\, and you want to
  know exactly what to do. Unfortunately\, that's not possible. Every perso
 n's hair is slightly diﬀerent\, and all have diﬀerent needs. However\,
  we will give you techniques for making your child's hair look as amazing 
 as nature intended it to be and give you the conﬁdence in your ability t
 o care for their hair.\nRegistration will close on Thursday\, October 27\,
  2022 at 12pm \n&nbsp\;\n***Please Note: This class will be facilitated 
 on the online platform called Zoom. Internet access and access to a comput
 er/laptop/tablet/smartphone is required to attend.\nThe link to attend thi
 s class will be provided on the day of class\nPlease follow the link below
  for a brief tutorial on how to sign up for a free Zoom account.\nZoom Use
 r Guide
ATTACH;FMTTYPE=image/jpeg:https://fakce.org/wp-content/uploads/2015/03/CAP
 0016E.jpg
CATEGORIES:Online Classes,Support Groups,Workshops
LOCATION:Zoom\, 0000 Zoom \, San Diego\, United States
X-APPLE-STRUCTURED-LOCATION;VALUE=URI;X-ADDRESS=0000 Zoom \, San Diego\, Un
 ited States;X-APPLE-RADIUS=100;X-TITLE=Zoom:geo:0,0
END:VEVENT
BEGIN:VTIMEZONE
TZID:America/Los_Angeles
X-LIC-LOCATION:America/Los_Angeles
BEGIN:DAYLIGHT
DTSTART:20220313T030000
TZOFFSETFROM:-0800
TZOFFSETTO:-0700
TZNAME:PDT
END:DAYLIGHT
END:VTIMEZONE
END:VCALENDAR