BEGIN:VCALENDAR
VERSION:2.0
PRODID:-//wp-events-plugin.com//7.2.3.1//EN
TZID:America/Los_Angeles
X-WR-TIMEZONE:America/Los_Angeles
BEGIN:VEVENT
UID:13691@fakce.org
DTSTART;TZID=America/Los_Angeles:20220923T093000
DTEND;TZID=America/Los_Angeles:20220923T113000
DTSTAMP:20220810T174243Z
URL:https://fakce.org/events/online-san-diego-southeast-encanto-morning-su
 pport-group-2022-09-23/
SUMMARY:Online | San Diego Southeast/Encanto - Morning Support Group: Alpha
 bet Soup
DESCRIPTION:Meets every 4th Friday of the month\nNote: No meetings in July\
 , August and December 2022\nSupport Group Leader: Lorraine Mattox\nTopic:
  ASD\, ADHD\, CP\, DMD\, FASD\, FXS\, DD\, WXYZ! The CDC estimates that 1 
 in 68 children has been identified with an autism spectrum disorder and ab
 out 1 in 6 children aged 3–17 has a developmental disability. Those perc
 entages are higher for children in foster care. We will look at the condit
 ions related to those initials and the importance of early screening and s
 ervices for children.\nRegistration will close on Thursday\, September 23\
 , 2022 at 12pm \n&nbsp\;\n***Please Note: This class will be facilitated
  on the online platform called Zoom. Internet access and access to a compu
 ter/laptop/tablet/smartphone is required to attend.\nThe link to attend th
 is class will be provided on the day of class\nPlease follow the link belo
 w for a brief tutorial on how to sign up for a free Zoom account.\nZoom Us
 er Guide
ATTACH;FMTTYPE=image/jpeg:https://fakce.org/wp-content/uploads/2015/03/CAP
 0016E.jpg
CATEGORIES:Online Classes,Support Groups,Workshops
LOCATION:Zoom\, 0000 Zoom \, San Diego\, United States
X-APPLE-STRUCTURED-LOCATION;VALUE=URI;X-ADDRESS=0000 Zoom \, San Diego\, Un
 ited States;X-APPLE-RADIUS=100;X-TITLE=Zoom:geo:0,0
END:VEVENT
BEGIN:VTIMEZONE
TZID:America/Los_Angeles
X-LIC-LOCATION:America/Los_Angeles
BEGIN:DAYLIGHT
DTSTART:20220313T030000
TZOFFSETFROM:-0800
TZOFFSETTO:-0700
TZNAME:PDT
END:DAYLIGHT
END:VTIMEZONE
END:VCALENDAR