BEGIN:VCALENDAR
VERSION:2.0
PRODID:-//wp-events-plugin.com//7.2.3.1//EN
TZID:America/Los_Angeles
X-WR-TIMEZONE:America/Los_Angeles
BEGIN:VEVENT
UID:13690@fakce.org
DTSTART;TZID=America/Los_Angeles:20220826T093000
DTEND;TZID=America/Los_Angeles:20220826T113000
DTSTAMP:20220616T162000Z
URL:https://fakce.org/events/online-san-diego-southeast-encanto-morning-su
 pport-group-2022-08-26/
SUMMARY:Online | San Diego Southeast/Encanto: Enhancing and Practicing Exec
 utive Function Skills with Children and Youth
DESCRIPTION:Meets every 4th Friday of the month\nNote: No meetings in July\
 , August and December 2022\nSupport Group Leader: Lorraine Mattox\nTopic:
  This class explores self‐regulation skills and executive function as c
 ritical supports for learning and development. Executive function skills 
 allow us to retain and work with information in our brains\, focus our att
 ention\, ﬁlter distractions\, and switch mental gears.\nRegistration wil
 l close on Thursday\, August 25\, 2022 at 12pm \n***Please Note: This cl
 ass will be facilitated on the online platform called Zoom. Internet acces
 s and access to a computer/laptop/tablet/smartphone is required to attend.
 \nThe link to attend this class will be provided on the day of class\nPlea
 se follow the link below for a brief tutorial on how to sign up for a free
  Zoom account.\nZoom User Guide
ATTACH;FMTTYPE=image/jpeg:https://fakce.org/wp-content/uploads/2015/03/CAP
 0016E.jpg
CATEGORIES:Online Classes,Support Groups,Workshops
LOCATION:Zoom\, 0000 Zoom \, San Diego\, United States
X-APPLE-STRUCTURED-LOCATION;VALUE=URI;X-ADDRESS=0000 Zoom \, San Diego\, Un
 ited States;X-APPLE-RADIUS=100;X-TITLE=Zoom:geo:0,0
END:VEVENT
BEGIN:VTIMEZONE
TZID:America/Los_Angeles
X-LIC-LOCATION:America/Los_Angeles
BEGIN:DAYLIGHT
DTSTART:20220313T030000
TZOFFSETFROM:-0800
TZOFFSETTO:-0700
TZNAME:PDT
END:DAYLIGHT
END:VTIMEZONE
END:VCALENDAR