BEGIN:VCALENDAR
VERSION:2.0
PRODID:-//wp-events-plugin.com//7.2.3.1//EN
TZID:America/Los_Angeles
X-WR-TIMEZONE:America/Los_Angeles
BEGIN:VEVENT
UID:13689@fakce.org
DTSTART;TZID=America/Los_Angeles:20220722T093000
DTEND;TZID=America/Los_Angeles:20220722T113000
DTSTAMP:20220608T200122Z
URL:https://fakce.org/events/online-san-diego-southeast-encanto-morning-su
 pport-group-2022-07-22/
SUMMARY:Online | San Diego Southeast/Encanto - Morning Support Group: Brain
  Architecture
DESCRIPTION:Meets every 4th Friday of the month\nNote: No meetings in July\
 , August and December 2022\nSupport Group Leader: Lorraine Mattox\n\nTopi
 c: The experiences we have in the ﬁrst years of our lives also aﬀect t
 he physical architecture of the developing brain. This workshop will help 
 participants understand the science behind brain development and the actio
 ns they can take that can help improve their physical and mental health an
 d reduce the risk for children across the lifespan.\nRegistration will clo
 se on Thursday\, July 21\, 2022\, at 12 pm \n&nbsp\;\n***Please Note: Th
 is class will be facilitated on the online platform called Zoom. Internet 
 access and access to a computer/laptop/tablet/smartphone is required to at
 tend.\nThe link to attend this class will be provided on the day of class\
 nPlease follow the link below for a brief tutorial on how to sign up for a
  free Zoom account.\nZoom User Guide
ATTACH;FMTTYPE=image/jpeg:https://fakce.org/wp-content/uploads/2015/03/CAP
 0016E.jpg
CATEGORIES:Online Classes,Support Groups,Workshops
LOCATION:Zoom\, 0000 Zoom \, San Diego\, United States
X-APPLE-STRUCTURED-LOCATION;VALUE=URI;X-ADDRESS=0000 Zoom \, San Diego\, Un
 ited States;X-APPLE-RADIUS=100;X-TITLE=Zoom:geo:0,0
END:VEVENT
BEGIN:VTIMEZONE
TZID:America/Los_Angeles
X-LIC-LOCATION:America/Los_Angeles
BEGIN:DAYLIGHT
DTSTART:20220313T030000
TZOFFSETFROM:-0800
TZOFFSETTO:-0700
TZNAME:PDT
END:DAYLIGHT
END:VTIMEZONE
END:VCALENDAR