BEGIN:VCALENDAR
VERSION:2.0
PRODID:-//wp-events-plugin.com//7.2.3.1//EN
TZID:America/Los_Angeles
X-WR-TIMEZONE:America/Los_Angeles
BEGIN:VEVENT
UID:13687@fakce.org
DTSTART;TZID=America/Los_Angeles:20220527T093000
DTEND;TZID=America/Los_Angeles:20220527T113000
DTSTAMP:20220407T190153Z
URL:https://fakce.org/events/online-san-diego-southeast-encanto-morning-su
 pport-group-2022-05-27/
SUMMARY:Online | San Diego Southeast/Encanto: Self Care for Caregivers
DESCRIPTION:Meets every 4th Friday of the month\nNote: No meetings in July\
 , August and December 2022\nSupport Group Leader: Lorraine Mattox\n\nTopi
 c: This workshop will teach parents about the importance of self‐care a
 nd how it relates to parenting\, managing stress (coping with daily stress
  and frustration)\, and provide examples of self‐care activities. Parent
 s will also learn tips to identify\, recognize\, and understand stress lev
 els and how to minimize its toxic eﬀects.\nRegistration will close on Th
 ursday\, May 26\, 2022 at 12pm \n***Please Note: This class will be faci
 litated on the online platform called Zoom. Internet access and access to 
 a computer/laptop/tablet/smartphone is required to attend.\nThe link to at
 tend this class will be provided on the day of class\nPlease follow the li
 nk below for a brief tutorial on how to sign up for a free Zoom account.\n
 Zoom User Guide
ATTACH;FMTTYPE=image/jpeg:https://fakce.org/wp-content/uploads/2016/08/Kri
 stinLittlePhotography_Web_1500-009.jpg
CATEGORIES:Online Classes,Support Groups,Workshops
LOCATION:Zoom\, 0000 Zoom \, San Diego\, United States
X-APPLE-STRUCTURED-LOCATION;VALUE=URI;X-ADDRESS=0000 Zoom \, San Diego\, Un
 ited States;X-APPLE-RADIUS=100;X-TITLE=Zoom:geo:0,0
END:VEVENT
BEGIN:VTIMEZONE
TZID:America/Los_Angeles
X-LIC-LOCATION:America/Los_Angeles
BEGIN:DAYLIGHT
DTSTART:20220313T030000
TZOFFSETFROM:-0800
TZOFFSETTO:-0700
TZNAME:PDT
END:DAYLIGHT
END:VTIMEZONE
END:VCALENDAR