BEGIN:VCALENDAR
VERSION:2.0
PRODID:-//wp-events-plugin.com//7.2.3.1//EN
TZID:America/Los_Angeles
X-WR-TIMEZONE:America/Los_Angeles
BEGIN:VEVENT
UID:13686@fakce.org
DTSTART;TZID=America/Los_Angeles:20220422T093000
DTEND;TZID=America/Los_Angeles:20220422T113000
DTSTAMP:20220211T180126Z
URL:https://fakce.org/events/online-san-diego-southeast-encanto-morning-su
 pport-group-2022-04-22/
SUMMARY:Online | San Diego Southeast/Encanto - Morning Support Group: Under
 standing RFA and the Written Directives
DESCRIPTION:Meets every 4th Friday of the month\nNote: No meetings in July\
 , August and December 2022\nSupport Group Leader: Lorraine Mattox\nTopic:
  Have you taken a look at the new Written Directives 7.0? If you haven
 ’t had a chance\, join us for an overview of the changes you need to be 
 aware of. To avoid allegations\, it is important and crucial for you to ke
 ep up‐to‐date with state regulations governing Foster Family Homes and
  Resource Families. This is an opportunity caregivers should not miss out 
 on!\nRegistration will close on Thursday\, April 21\, 2022 at 12pm \n&nbs
 p\;\n***Please Note: This class will be facilitated on the online platfor
 m called Zoom. Internet access and access to a computer/laptop/tablet/smar
 tphone is required to attend.\nThe link to attend this class will be provi
 ded on the day of class\nPlease follow the link below for a brief tutorial
  on how to sign up for a free Zoom account.\nZoom User Guide
ATTACH;FMTTYPE=image/jpeg:https://fakce.org/wp-content/uploads/2015/03/CAP
 0016E.jpg
CATEGORIES:Online Classes,Support Groups,Workshops
LOCATION:Zoom\, 0000 Zoom \, San Diego\, United States
X-APPLE-STRUCTURED-LOCATION;VALUE=URI;X-ADDRESS=0000 Zoom \, San Diego\, Un
 ited States;X-APPLE-RADIUS=100;X-TITLE=Zoom:geo:0,0
END:VEVENT
BEGIN:VTIMEZONE
TZID:America/Los_Angeles
X-LIC-LOCATION:America/Los_Angeles
BEGIN:DAYLIGHT
DTSTART:20220313T030000
TZOFFSETFROM:-0800
TZOFFSETTO:-0700
TZNAME:PDT
END:DAYLIGHT
END:VTIMEZONE
END:VCALENDAR