BEGIN:VCALENDAR
VERSION:2.0
PRODID:-//wp-events-plugin.com//7.2.3.1//EN
TZID:America/Los_Angeles
X-WR-TIMEZONE:America/Los_Angeles
BEGIN:VEVENT
UID:13685@fakce.org
DTSTART;TZID=America/Los_Angeles:20220325T093000
DTEND;TZID=America/Los_Angeles:20220325T113000
DTSTAMP:20220209T193724Z
URL:https://fakce.org/events/online-san-diego-southeast-encanto-morning-su
 pport-group-2022-03-25/
SUMMARY:Online | San Diego Southeast/Encanto - Morning: Dissociation in Chi
 ldren and Teens
DESCRIPTION:Meets every 4th Friday of the month\nNote: No meetings in July\
 , August and December 2022\nSupport Group Leader: Lorraine Mattox\nTopic:
  This workshop will help Resource Parents understand what dissociation is
 \, why it happens in children with trauma histories and how we can parent 
 eﬀectively. Learn more about trauma and dissociation in children\, disco
 ver how to recognize dissociation behaviors\, and ﬁnd ways to help suppo
 rt and heal children that dissociate.\nRegistration will close on Thursday
 \, March 24\, 2022 at 12pm \n***Please Note: This class will be facilita
 ted on the online platform called Zoom. Internet access and access to a co
 mputer/laptop/tablet/smartphone is required to attend.\nThe link to attend
  this class will be provided on the day of class\nPlease follow the link b
 elow for a brief tutorial on how to sign up for a free Zoom account.\nZoom
  User Guide\n
ATTACH;FMTTYPE=image/jpeg:https://fakce.org/wp-content/uploads/2015/03/CAP
 0016E.jpg
CATEGORIES:Online Classes,Support Groups,Workshops
LOCATION:Zoom\, 0000 Zoom \, San Diego\, United States
X-APPLE-STRUCTURED-LOCATION;VALUE=URI;X-ADDRESS=0000 Zoom \, San Diego\, Un
 ited States;X-APPLE-RADIUS=100;X-TITLE=Zoom:geo:0,0
END:VEVENT
BEGIN:VTIMEZONE
TZID:America/Los_Angeles
X-LIC-LOCATION:America/Los_Angeles
BEGIN:DAYLIGHT
DTSTART:20220313T030000
TZOFFSETFROM:-0800
TZOFFSETTO:-0700
TZNAME:PDT
END:DAYLIGHT
END:VTIMEZONE
END:VCALENDAR