BEGIN:VCALENDAR
VERSION:2.0
PRODID:-//wp-events-plugin.com//7.2.3.1//EN
TZID:America/Los_Angeles
X-WR-TIMEZONE:America/Los_Angeles
BEGIN:VEVENT
UID:13684@fakce.org
DTSTART;TZID=America/Los_Angeles:20220225T093000
DTEND;TZID=America/Los_Angeles:20220225T113000
DTSTAMP:20211215T174809Z
URL:https://fakce.org/events/online-san-diego-southeast-encanto-morning-su
 pport-group-2022-02-25/
SUMMARY:Online | San Diego Southeast/Encanto - Morning: Parenting a Tween
DESCRIPTION:Meets every 4th Friday of the month\nNote: No meetings in July\
 , August and December 2022\nSupport Group Leader: Lorraine Mattox\n\nTopi
 c: Defined loosely as the years between eight or nine to twelve\, the “t
 ween” years or pre‐adolescence is a time of monumental shifts in your 
 child’s physical\, cognitive\, emotional\, and social development. It’
 s a time of growing independence but it can also be scary for kids. In ord
 er to help\, you need to understand how your preteens and tweens are chang
 ing both inside and out. This workshop will discuss the crucial stage of p
 re‐adolescence/tweens that precedes the teenage years.\nRegistration wil
 l close on Thursday\, February 24\, 2022 at 12pm \n***Please Note: This 
 class will be facilitated on the online platform called Zoom. Internet acc
 ess and access to a computer/laptop/tablet/smartphone is required to atten
 d.\nThe link to attend this class will be provided on the day of class\nPl
 ease follow the link below for a brief tutorial on how to sign up for a fr
 ee Zoom account.\nZoom User Guide
ATTACH;FMTTYPE=image/jpeg:https://fakce.org/wp-content/uploads/2015/03/CAP
 0016E.jpg
CATEGORIES:Online Classes,Support Groups,Workshops
LOCATION:Zoom\, 0000 Zoom \, San Diego\, United States
X-APPLE-STRUCTURED-LOCATION;VALUE=URI;X-ADDRESS=0000 Zoom \, San Diego\, Un
 ited States;X-APPLE-RADIUS=100;X-TITLE=Zoom:geo:0,0
END:VEVENT
BEGIN:VTIMEZONE
TZID:America/Los_Angeles
X-LIC-LOCATION:America/Los_Angeles
BEGIN:STANDARD
DTSTART:20211107T010000
TZOFFSETFROM:-0700
TZOFFSETTO:-0800
TZNAME:PST
END:STANDARD
END:VTIMEZONE
END:VCALENDAR