BEGIN:VCALENDAR
VERSION:2.0
PRODID:-//wp-events-plugin.com//7.2.3.1//EN
TZID:America/Los_Angeles
X-WR-TIMEZONE:America/Los_Angeles
BEGIN:VEVENT
UID:13683@fakce.org
DTSTART;TZID=America/Los_Angeles:20220128T093000
DTEND;TZID=America/Los_Angeles:20220128T113000
DTSTAMP:20220111T232411Z
URL:https://fakce.org/events/online-san-diego-southeast-encanto-morning-su
 pport-group-2022-01-28/
SUMMARY:Online | San Diego Southeast/Encanto - Morning: What is CASS? Overv
 iew of Services
DESCRIPTION:Meets every 4th Friday of the month\nNote: No meetings in July\
 , August and December 2022\nSupport Group Leader: Lorraine Mattox\n\nComp
 rehensive Assessment and Stabilization Services (CASS) provides trauma‐
 informed\, individualized treatment and stabilization that are child and y
 outh‐driven and family focused. Come learn more about CASS and if you fa
 mily is eligible for services.\nRegistration will close on Thursday\, Janu
 ary 27\, 2022 at 12pm \n***Please Note: This class will be facilitated o
 n the online platform called Zoom. Internet access and access to a compute
 r/laptop/tablet/smartphone is required to attend.\nThe link to attend this
  class will be provided on the day of class\nPlease follow the link below 
 for a brief tutorial on how to sign up for a free Zoom account.\nZoom User
  Guide
ATTACH;FMTTYPE=image/jpeg:https://fakce.org/wp-content/uploads/2015/03/CAP
 0016E.jpg
CATEGORIES:Online Classes,Support Groups,Workshops
LOCATION:Zoom\, 0000 Zoom \, San Diego\, United States
X-APPLE-STRUCTURED-LOCATION;VALUE=URI;X-ADDRESS=0000 Zoom \, San Diego\, Un
 ited States;X-APPLE-RADIUS=100;X-TITLE=Zoom:geo:0,0
END:VEVENT
BEGIN:VTIMEZONE
TZID:America/Los_Angeles
X-LIC-LOCATION:America/Los_Angeles
BEGIN:STANDARD
DTSTART:20211107T010000
TZOFFSETFROM:-0700
TZOFFSETTO:-0800
TZNAME:PST
END:STANDARD
END:VTIMEZONE
END:VCALENDAR