BEGIN:VCALENDAR
VERSION:2.0
PRODID:-//wp-events-plugin.com//7.2.3.1//EN
TZID:America/Los_Angeles
X-WR-TIMEZONE:America/Los_Angeles
BEGIN:VEVENT
UID:16353@fakce.org
DTSTART;TZID=America/Los_Angeles:20260402T180000
DTEND;TZID=America/Los_Angeles:20260402T200000
DTSTAMP:20260130T121744Z
URL:https://fakce.org/events/online-san-diego-foster-parent-association-sd
 fpa-support-group-high-medical-needs-children-2026-04-02/
SUMMARY:Online | San Diego Foster Parent Association (SDFPA)-Support Group:
  High Medical Needs Children
DESCRIPTION:Meets every 1st Thursday of each month\n***No meetings in Janua
 ry\, July\, and December***\nLeader: MaryJo Meer\n\nTopic: Children with 
 medical complexity are a unique population with intensive medical and soci
 al needs. The amount of commitment needed to care for these children will 
 be much higher\, and specialized training will be required in most cases. 
 Resource parents must be willing to advocate for the child's needs\, which
  include learning about medical needs and treatment\, going to meetings an
 d therapies\, and working with the school system. Resource parents can gre
 atly benefit from having a support system\, having access to resources\, a
 nd knowing how to navigate all the systems needed to care for their kids. 
 Join us for a conversation about how to navigate these systems and care fo
 r kids with high medical needs.\n***Please Note: This class will be facili
 tated on the Zoom platform.\n Internet access and access to a computer/lap
 top/tablet/smartphone is required to attend.\nFor our support group meetin
 gs\, all participants must have their cameras on\, regardless of whether 
 they are seeking credit or not. This requirement is designed to encourage 
 full engagement and connection among participants\, fostering a more suppo
 rtive atmosphere within our community. Please note that individuals unable
  to participate with their cameras on will not be able to join the support
  group sessions.\nWe kindly request that participants avoid using distract
 ing virtual backgrounds. For privacy\, we recommend using the blur feature
  instead.\nYou cannot take this class in a vehicle.\nThe link to attend th
 is class will be provided via email.\nPlease follow the link below for a b
 rief tutorial on how to sign up for a free Zoom account.\nZoom User Guide
ATTACH;FMTTYPE=image/jpeg:https://fakce.org/wp-content/uploads/2021/07/Hig
 h-medical-needs.jpg
CATEGORIES:Classes,Online Classes,Support Groups,Workshops
LOCATION:Zoom\, 0000 Zoom \, San Diego\, United States
X-APPLE-STRUCTURED-LOCATION;VALUE=URI;X-ADDRESS=0000 Zoom \, San Diego\, Un
 ited States;X-APPLE-RADIUS=100;X-TITLE=Zoom:geo:0,0
END:VEVENT
BEGIN:VTIMEZONE
TZID:America/Los_Angeles
X-LIC-LOCATION:America/Los_Angeles
BEGIN:DAYLIGHT
DTSTART:20260308T030000
TZOFFSETFROM:-0800
TZOFFSETTO:-0700
TZNAME:PDT
END:DAYLIGHT
END:VTIMEZONE
END:VCALENDAR