BEGIN:VCALENDAR
VERSION:2.0
PRODID:-//wp-events-plugin.com//7.2.3.1//EN
TZID:America/Los_Angeles
X-WR-TIMEZONE:America/Los_Angeles
BEGIN:VEVENT
UID:16351@fakce.org
DTSTART;TZID=America/Los_Angeles:20260205T180000
DTEND;TZID=America/Los_Angeles:20260205T200000
DTSTAMP:20260117T144038Z
URL:https://fakce.org/events/online-san-diego-foster-parent-association-sd
 fpa-support-group-establishing-a-level-foundation-for-life-mental-health-b
 egins-in-early-childhood-2026-02-05/
SUMMARY:Online | San Diego Foster Parent Association (SDFPA)-Support Group:
  Establishing a Level Foundation for Life: Mental Health Begins in Early C
 hildhood
DESCRIPTION:Meets every 1st Thursday of each month\n***No meetings in Janua
 ry\, July\, and December***\nLeader: MaryJo Meer\n\nTopic: According to re
 search\, signiﬁcant mental health problems can and do occur in young chi
 ldren. Children who experience toxic stress early in life can have damage 
 to the architecture of their developing brain and can increase the likelih
 ood of signiﬁcant mental health problems either early or later in life. 
 Join us to learn how early prevention strategies and eﬀorts to identify 
 and treat emergent mental health concerns can be psychologically beneﬁci
 al and cost-eﬀective rather than treating them later when emotional di
 ﬃculties have become more serious at a later age.\n***Please Note: This 
 class will be facilitated on the Zoom platform.\n Internet access and acce
 ss to a computer/laptop/tablet/smartphone is required to attend.\nFor our 
 support group meetings\, all participants must have their cameras on\, re
 gardless of whether they are seeking credit or not. This requirement is de
 signed to encourage full engagement and connection among participants\, fo
 stering a more supportive atmosphere within our community. Please note tha
 t individuals unable to participate with their cameras on will not be able
  to join the support group sessions.\nWe kindly request that participants 
 avoid using distracting virtual backgrounds. For privacy\, we recommend us
 ing the blur feature instead.\nYou cannot take this class in a vehicle.\nT
 he link to attend this class will be provided via email.\nPlease follow th
 e link below for a brief tutorial on how to sign up for a free Zoom accoun
 t.\nZoom User Guide
ATTACH;FMTTYPE=image/jpeg:https://fakce.org/wp-content/uploads/2015/03/CAP
 0034D.jpg
CATEGORIES:Classes,Online Classes,Support Groups,Workshops
LOCATION:Zoom\, 0000 Zoom \, San Diego\, United States
X-APPLE-STRUCTURED-LOCATION;VALUE=URI;X-ADDRESS=0000 Zoom \, San Diego\, Un
 ited States;X-APPLE-RADIUS=100;X-TITLE=Zoom:geo:0,0
END:VEVENT
BEGIN:VTIMEZONE
TZID:America/Los_Angeles
X-LIC-LOCATION:America/Los_Angeles
BEGIN:STANDARD
DTSTART:20251102T010000
TZOFFSETFROM:-0700
TZOFFSETTO:-0800
TZNAME:PST
END:STANDARD
END:VTIMEZONE
END:VCALENDAR