BEGIN:VCALENDAR
VERSION:2.0
PRODID:-//wp-events-plugin.com//7.2.3.1//EN
TZID:America/Los_Angeles
X-WR-TIMEZONE:America/Los_Angeles
BEGIN:VEVENT
UID:18431@fakce.org
DTSTART;TZID=America/Los_Angeles:20260130T180000
DTEND;TZID=America/Los_Angeles:20260130T210000
DTSTAMP:20260115T205748Z
URL:https://fakce.org/events/online-safe-and-happy-babies-2026-01-30/
SUMMARY:Online | Safe and Happy Babies
DESCRIPTION:Instructor: MaryAnn Paschal\, Resource/Adoptive Parent\nDescrip
 tion:Caring for babies has changed greatly over the years. It is essential
  that all caregivers are up to date on the most current best practice in b
 aby care which may not be covered by regulations. This workshop will cover
  the key areas that you need to know to keep the babies in your home safe\
 , happy\, and healthy.\n\n&nbsp\;\n***Please Note: This class will be faci
 litated on the Zoom platform.\nInternet access and access to a computer/la
 ptop/tablet/smartphone is required to attend.\nWe kindly request that part
 icipants avoid using distracting virtual backgrounds. For privacy\, we rec
 ommend using the blur feature instead.\nYou cannot take this class in a ve
 hicle.\nThe Zoom link to attend this class will be provided via email.\nPl
 ease follow the link below for a brief tutorial on how to sign up for a fr
 ee Zoom account.\nZoom User Guide
ATTACH;FMTTYPE=image/jpeg:https://fakce.org/wp-content/uploads/2015/03/000
 012043424.jpg
CATEGORIES:Classes,Online Classes,Specialty Classes
LOCATION:Zoom\, 0000 Zoom \, San Diego\, United States
X-APPLE-STRUCTURED-LOCATION;VALUE=URI;X-ADDRESS=0000 Zoom \, San Diego\, Un
 ited States;X-APPLE-RADIUS=100;X-TITLE=Zoom:geo:0,0
END:VEVENT
BEGIN:VTIMEZONE
TZID:America/Los_Angeles
X-LIC-LOCATION:America/Los_Angeles
BEGIN:STANDARD
DTSTART:20251102T010000
TZOFFSETFROM:-0700
TZOFFSETTO:-0800
TZNAME:PST
END:STANDARD
END:VTIMEZONE
END:VCALENDAR