BEGIN:VCALENDAR
VERSION:2.0
PRODID:-//wp-events-plugin.com//7.2.3.1//EN
TZID:America/Los_Angeles
X-WR-TIMEZONE:America/Los_Angeles
BEGIN:VEVENT
UID:17780@fakce.org
DTSTART;TZID=America/Los_Angeles:20250616T180000
DTEND;TZID=America/Los_Angeles:20250618T210000
DTSTAMP:20250428T210535Z
URL:https://fakce.org/events/online-risk-factors-1-2-2025-06-16/
SUMMARY:Online | Risk Factors 1 & 2
DESCRIPTION:If you are taking the class as a required adoption class\, you 
 must take both parts and together they count as only one of your two adopt
 ion classes\nYou will receive a certificate for each of the two parts\, ea
 ch giving you 3 hours of education credit (6 hours if you take both parts 
 1 and 2 of the series)\nRegistering for part 1 will automatically register
  you for part 2\nDates: Monday\,June 16\, 2025 &amp\; Wednesday\, June 18\
 , 2025\nClasses will examine current information about inherited illnesses
  (including mental illnesses)\, congenital conditions (including cerebral 
 palsy)\, and the risks and effects of prenatal drug exposure\, alcohol\, a
 nd HIV.\n***Please Note: This class will be facilitated on the Zoom platfo
 rm.\nInternet access and access to a computer/laptop/tablet/smartphone is 
 required to attend.\nWe kindly request that participants avoid using distr
 acting virtual backgrounds. For privacy\, we recommend using the blur feat
 ure instead.\nYou cannot take this class in a vehicle.\nThe Zoom link to a
 ttend this class will be provided via email.\nPlease follow the link below
  for a brief tutorial on how to sign up for a free Zoom account.\nZoom Use
 r Guide
ATTACH;FMTTYPE=image/jpeg:https://fakce.org/wp-content/uploads/2015/03/FTI
 0027F.jpg
CATEGORIES:Adoption Classes,Classes,Online Classes
LOCATION:Zoom\, 0000 Zoom \, San Diego\, United States
X-APPLE-STRUCTURED-LOCATION;VALUE=URI;X-ADDRESS=0000 Zoom \, San Diego\, Un
 ited States;X-APPLE-RADIUS=100;X-TITLE=Zoom:geo:0,0
END:VEVENT
BEGIN:VTIMEZONE
TZID:America/Los_Angeles
X-LIC-LOCATION:America/Los_Angeles
BEGIN:DAYLIGHT
DTSTART:20250309T030000
TZOFFSETFROM:-0800
TZOFFSETTO:-0700
TZNAME:PDT
END:DAYLIGHT
END:VTIMEZONE
END:VCALENDAR