BEGIN:VCALENDAR
VERSION:2.0
PRODID:-//wp-events-plugin.com//7.2.3.1//EN
TZID:America/Los_Angeles
X-WR-TIMEZONE:America/Los_Angeles
BEGIN:VEVENT
UID:15723@fakce.org
DTSTART;TZID=America/Los_Angeles:20230612T180000
DTEND;TZID=America/Los_Angeles:20230614T210000
DTSTAMP:20230425T214558Z
URL:https://fakce.org/events/online-risk-factors-1-2-2023-06-12/
SUMMARY:Online | Risk Factors 1 & 2
DESCRIPTION:Both sessions must be taken for full credit\nRegistering for pa
 rt 1 will automatically register you for part 2\nMonday\,  June 5 &amp\;
  Wednesday\, June 7.\nClasses will examine current information about inher
 ited illnesses (including mental illnesses)\, congenital conditions (inclu
 ding cerebral palsy)\, and the risks and effects of prenatal drug exposure
 \, alcohol\, and HIV.\nRegistration will close on Monday\, June 12\, 2023 
 at 7 am \n&nbsp\;\n***Please Note: This class will be facilitated on the 
 online platform called Zoom. Internet access and access to a computer/lapt
 op/tablet/smartphone is required to attend.\nThe link to attend this class
  will be provided at registration.\nPlease follow the link below for a bri
 ef tutorial on how to sign up for a free Zoom account.\nZoom User Guide
ATTACH;FMTTYPE=image/jpeg:https://fakce.org/wp-content/uploads/2015/03/FTI
 0027F.jpg
CATEGORIES:Adoption Classes,Classes,Online Classes
LOCATION:Zoom\, 0000 Zoom \, San Diego\, United States
X-APPLE-STRUCTURED-LOCATION;VALUE=URI;X-ADDRESS=0000 Zoom \, San Diego\, Un
 ited States;X-APPLE-RADIUS=100;X-TITLE=Zoom:geo:0,0
END:VEVENT
BEGIN:VTIMEZONE
TZID:America/Los_Angeles
X-LIC-LOCATION:America/Los_Angeles
BEGIN:DAYLIGHT
DTSTART:20230312T030000
TZOFFSETFROM:-0800
TZOFFSETTO:-0700
TZNAME:PDT
END:DAYLIGHT
END:VTIMEZONE
END:VCALENDAR