BEGIN:VCALENDAR
VERSION:2.0
PRODID:-//wp-events-plugin.com//7.2.3.1//EN
TZID:America/Los_Angeles
X-WR-TIMEZONE:America/Los_Angeles
BEGIN:VEVENT
UID:14210@fakce.org
DTSTART;TZID=America/Los_Angeles:20220412T180000
DTEND;TZID=America/Los_Angeles:20220414T210000
DTSTAMP:20220411T191605Z
URL:https://fakce.org/events/online-risk-factors-1-2-2022-04-12/
SUMMARY:Online | Risk Factors 1 & 2
DESCRIPTION:Both sessions must be taken for full credit\nRegistering for pa
 rt 1 will automatically register you for part 2\nTuesday/Thursday\, April 
 12 &amp\; 14. Classes will examine current information about inherited ill
 nesses (including mental illnesses)\, congenital conditions (including cer
 ebral palsy)\, and the risks and effects of prenatal drug exposure\, alcoh
 ol\, and HIV.\nRegistration will close on Tuesday\, April 12\, 2022 at 7am
  \n&nbsp\;\n***Please Note: This class will be facilitated on the online 
 platform called Zoom. Internet access and access to a computer/laptop/tabl
 et/smartphone is required to attend.\nThe link to attend this class will b
 e provided at registration.\nPlease follow the link below for a brief tuto
 rial on how to sign up for a free Zoom account.\nZoom User Guide
ATTACH;FMTTYPE=image/jpeg:https://fakce.org/wp-content/uploads/2015/03/FTI
 0027F.jpg
CATEGORIES:Adoption Classes,Online Classes
LOCATION:Zoom\, 0000 Zoom \, San Diego\, United States
X-APPLE-STRUCTURED-LOCATION;VALUE=URI;X-ADDRESS=0000 Zoom \, San Diego\, Un
 ited States;X-APPLE-RADIUS=100;X-TITLE=Zoom:geo:0,0
END:VEVENT
BEGIN:VTIMEZONE
TZID:America/Los_Angeles
X-LIC-LOCATION:America/Los_Angeles
BEGIN:DAYLIGHT
DTSTART:20220313T030000
TZOFFSETFROM:-0800
TZOFFSETTO:-0700
TZNAME:PDT
END:DAYLIGHT
END:VTIMEZONE
END:VCALENDAR