BEGIN:VCALENDAR
VERSION:2.0
PRODID:-//wp-events-plugin.com//7.2.3.1//EN
TZID:America/Los_Angeles
X-WR-TIMEZONE:America/Los_Angeles
BEGIN:VEVENT
UID:17953@fakce.org
DTSTART;TZID=America/Los_Angeles:20251016T180000
DTEND;TZID=America/Los_Angeles:20251016T200000
DTSTAMP:20250819T110809Z
URL:https://fakce.org/events/online-resource-parents-as-mandated-reporters
 -2025-10-16/
SUMMARY:Online | Resource Parents as Mandated Reporters
DESCRIPTION:Instructor: Diana Macis\, MSW\n\nDescription: The Federal Child
  Abuse Prevention and Treatment Act (CAPTA) requires each State to have pr
 ovisions or procedures for requiring certain individuals to report known o
 r suspected instances of child abuse and neglect. This workshop will discu
 ss the laws that designate the groups of professionals that are required t
 o report cases of suspected child abuse and neglect and reporting by other
  persons\, the responsibilities of institutions in making reports\, the st
 andards for making a report and the conﬁdentiality of the reporter's ide
 ntity.\n***Please Note: This class will be facilitated on the Zoom platfor
 m.\nInternet access and access to a computer/laptop/tablet/smartphone is r
 equired to attend.\nWe kindly request that participants avoid using distra
 cting virtual backgrounds. For privacy\, we recommend using the blur featu
 re instead.\nYou cannot take this class in a vehicle.\nThe Zoom link to at
 tend this class will be provided via email.\nPlease follow the link below 
 for a brief tutorial on how to sign up for a free Zoom account.\nZoom User
  Guide
ATTACH;FMTTYPE=image/jpeg:https://fakce.org/wp-content/uploads/2022/07/His
 panic-Family2.jpg
CATEGORIES:Classes,Online Classes,Specialty Classes
LOCATION:Zoom\, 0000 Zoom \, San Diego\, United States
X-APPLE-STRUCTURED-LOCATION;VALUE=URI;X-ADDRESS=0000 Zoom \, San Diego\, Un
 ited States;X-APPLE-RADIUS=100;X-TITLE=Zoom:geo:0,0
END:VEVENT
BEGIN:VTIMEZONE
TZID:America/Los_Angeles
X-LIC-LOCATION:America/Los_Angeles
BEGIN:DAYLIGHT
DTSTART:20250309T030000
TZOFFSETFROM:-0800
TZOFFSETTO:-0700
TZNAME:PDT
END:DAYLIGHT
END:VTIMEZONE
END:VCALENDAR