BEGIN:VCALENDAR
VERSION:2.0
PRODID:-//wp-events-plugin.com//7.2.3.1//EN
TZID:America/Los_Angeles
X-WR-TIMEZONE:America/Los_Angeles
BEGIN:VEVENT
UID:17781@fakce.org
DTSTART;TZID=America/Los_Angeles:20250616T180000
DTEND;TZID=America/Los_Angeles:20250616T210000
DTSTAMP:20250428T211558Z
URL:https://fakce.org/events/online-remembering-trauma-2025-06-16/
SUMMARY:Online | Remembering Trauma
DESCRIPTION:Instructors: Robin Thompson\, MSW\n\nDescription:  Remembering 
 Trauma is based on the film of the same name and looks at a true story of 
 how trauma aﬀects children’s ability to transition into adulthood with
  unresolved trauma. It describes why Complex PTSD aﬀects every aspect of
  a child’s life\, which in turn aﬀects their ability to make positive 
 life decisions.\n***Please Note: This class will be facilitated on the Zoo
 m platform.\nInternet access and access to a computer/laptop/tablet/smartp
 hone is required to attend.\nWe kindly request that participants avoid usi
 ng distracting virtual backgrounds. For privacy\, we recommend using the b
 lur feature instead.\nYou cannot take this class in a vehicle.\nThe Zoom l
 ink to attend this class will be provided via email.\nPlease follow the li
 nk below for a brief tutorial on how to sign up for a free Zoom account.\n
 Zoom User Guide
ATTACH;FMTTYPE=image/jpeg:https://fakce.org/wp-content/uploads/2016/05/pok
 wxgalck.jpg
CATEGORIES:Classes,Online Classes,Specialty Classes
LOCATION:Zoom\, 0000 Zoom \, San Diego\, United States
X-APPLE-STRUCTURED-LOCATION;VALUE=URI;X-ADDRESS=0000 Zoom \, San Diego\, Un
 ited States;X-APPLE-RADIUS=100;X-TITLE=Zoom:geo:0,0
END:VEVENT
BEGIN:VTIMEZONE
TZID:America/Los_Angeles
X-LIC-LOCATION:America/Los_Angeles
BEGIN:DAYLIGHT
DTSTART:20250309T030000
TZOFFSETFROM:-0800
TZOFFSETTO:-0700
TZNAME:PDT
END:DAYLIGHT
END:VTIMEZONE
END:VCALENDAR