BEGIN:VCALENDAR
VERSION:2.0
PRODID:-//wp-events-plugin.com//7.2.3.1//EN
TZID:America/Los_Angeles
X-WR-TIMEZONE:America/Los_Angeles
BEGIN:VEVENT
UID:13918@fakce.org
DTSTART;TZID=America/Los_Angeles:20220205T090000
DTEND;TZID=America/Los_Angeles:20220205T120000
DTSTAMP:20211210T195341Z
URL:https://fakce.org/events/online-recognizing-managing-attention-de%ef%a
 c%81cit-hyperactivity-disorder-adhd-2022-02-05/
SUMMARY:Online | Recognizing & Managing Attention Deﬁcit Hyperactivity Di
 sorder (ADHD)
DESCRIPTION:Parents of children with ADHD often feel isolated\, unsure and
  misunderstood by other parents and family members. Learn the common myth
 s and misconceptions about ADHD and recognize the diﬀerence between age 
 appropriate behaviors and ADHD symptoms. This workshop explains how ADHD i
 mpacts children and teens beyond impulsivity\, hyperactivity and inattenti
 veness and gives you the tools and strategies you need. Treatment consider
 ations for ADHD will also be discussed\nRegistration will close on Friday\
 , February 4\, 2022 at 12pm\n***Please Note: This class will be facilitate
 d on the online platform called Zoom. Internet access and access to a comp
 uter/laptop/tablet/smartphone is required to attend.\nThe link to attend t
 his class will be provided at registration.\nPlease follow the link below 
 for a brief tutorial on how to sign up for a free Zoom account.\nZoom User
  Guide
ATTACH;FMTTYPE=image/jpeg:https://fakce.org/wp-content/uploads/2021/05/Fly
 ing-Boy.jpg
CATEGORIES:Classes,Online Classes,Specialty Classes
LOCATION:Zoom\, 0000 Zoom \, San Diego\, United States
X-APPLE-STRUCTURED-LOCATION;VALUE=URI;X-ADDRESS=0000 Zoom \, San Diego\, Un
 ited States;X-APPLE-RADIUS=100;X-TITLE=Zoom:geo:0,0
END:VEVENT
BEGIN:VTIMEZONE
TZID:America/Los_Angeles
X-LIC-LOCATION:America/Los_Angeles
BEGIN:STANDARD
DTSTART:20211107T010000
TZOFFSETFROM:-0700
TZOFFSETTO:-0800
TZNAME:PST
END:STANDARD
END:VTIMEZONE
END:VCALENDAR