BEGIN:VCALENDAR
VERSION:2.0
PRODID:-//wp-events-plugin.com//7.2.3.1//EN
TZID:America/Los_Angeles
X-WR-TIMEZONE:America/Los_Angeles
BEGIN:VEVENT
UID:17912@fakce.org
DTSTART;TZID=America/Los_Angeles:20250910T150000
DTEND;TZID=America/Los_Angeles:20250910T180000
DTSTAMP:20250831T114658Z
URL:https://fakce.org/events/online-raising-a-child-with-fasd-understandin
 g-adapting-and-thriving-2025-09-10/
SUMMARY:Online | Raising a Child with FASD: Understanding\, Adapting\, and 
 Thriving
DESCRIPTION:Instructors: Barb Clark\, Training &amp\; Parent Support Specia
 list\nDescription: Many children coming into care were prenatally exposed 
 to drug and/or alcohol. We will explore risk factors for Fetal Alcohol Spe
 ctrum Disorders\, look at the connection between brain impairment and beha
 viors\, including impact of trauma and discuss reframing and other strateg
 ies for parents to better support children who were prenatally exposed to 
 substances.\n&nbsp\;\n\n&nbsp\;\n\n&nbsp\;\n\n&nbsp\;\n\n&nbsp\;\n \n***P
 lease Note: This class will be facilitated on the Zoom platform.\nInternet
  access and access to a computer/laptop/tablet/smartphone is required to a
 ttend.\nWe kindly request that participants avoid using distracting virtua
 l backgrounds. For privacy\, we recommend using the blur feature instead.\
 nYou cannot take this class in a vehicle.\nThe Zoom link to attend this cl
 ass will be provided via email.\nPlease follow the link below for a brief 
 tutorial on how to sign up for a free Zoom account.\nZoom User Guide
ATTACH;FMTTYPE=image/jpeg:https://fakce.org/wp-content/uploads/2016/08/rec
 overy-shutter1869185-child-with-fetal-alcohol-syndrome-640x300.jpg
CATEGORIES:Classes,Online Classes,Specialty Classes
LOCATION:Zoom\, 0000 Zoom \, San Diego\, United States
X-APPLE-STRUCTURED-LOCATION;VALUE=URI;X-ADDRESS=0000 Zoom \, San Diego\, Un
 ited States;X-APPLE-RADIUS=100;X-TITLE=Zoom:geo:0,0
END:VEVENT
BEGIN:VTIMEZONE
TZID:America/Los_Angeles
X-LIC-LOCATION:America/Los_Angeles
BEGIN:DAYLIGHT
DTSTART:20250309T030000
TZOFFSETFROM:-0800
TZOFFSETTO:-0700
TZNAME:PDT
END:DAYLIGHT
END:VTIMEZONE
END:VCALENDAR