BEGIN:VCALENDAR
VERSION:2.0
PRODID:-//wp-events-plugin.com//7.2.3.1//EN
TZID:America/Los_Angeles
X-WR-TIMEZONE:America/Los_Angeles
BEGIN:VEVENT
UID:18049@fakce.org
DTSTART;TZID=America/Los_Angeles:20251204T000000
DTEND;TZID=America/Los_Angeles:20251204T000000
DTSTAMP:20251203T164353Z
URL:https://fakce.org/events/online-qpi-the-caregiver-approach-to-adolesce
 nt-development-how-to-support-normalcy-for-adolescents-in-foster-care-2025
 -12-04/
SUMMARY:Online | QPI The Caregiver Approach to Adolescent Development: How 
 to Support Normalcy for Adolescents in Foster Care
DESCRIPTION:Guest Speakers\n&nbsp\;\n\n&nbsp\;\n\n\n\n&nbsp\;\nDr. Kanani T
 itchen is an adolescent medicine specialist and Associate Professor at UCS
 D who\nspecializes in caring for preteens\, teens\, and young adults at Ra
 dy Children's Hospital Medical Behavioral Unit (MBU) for patients with eat
 ing disorders. She also sees outpatients at the UCSD/RADY Adolescent and Y
 oung Adult (AYA) Medicine Clinic. She serves as Director of the Adolescent
  and Young Adult Medicine Medical Student Rotation and Sub‐Internship fo
 r the Department of Pediatrics at UC San Diego School of Medicine. She is 
 also an adoptive parent.\n&nbsp\;\n\n&nbsp\;\n\n&nbsp\;\n\n&nbsp\;\nDescri
 ption: Led by local experts\, this training will provide a brief recap of 
 the neurobiology that influences behaviors during adolescence\, the impact
  of childhood trauma on the brain and behavior\, as well as a variety of s
 trategies for working with early‐\, mid‐\, and late‐adolescent aged 
 kids. Topics such as hygiene\, sleep regulation and meals\, to issues arou
 nd technology use\, injurious behaviors\, and healthy relationships will b
 e discussed.\nRegistration will close on Wednesday\, December 03\, 2025 at
  12 pm\n***Please Note: This class will be facilitated on the online platf
 orm called Zoom. Internet access and access to a computer/laptop/tablet/sm
 artphone is required to attend.\nThe link to attend this class will be pro
 vided at registration.\nPlease follow the link below for a brief tutorial 
 on how to sign up for a free Zoom account.\nZoom User Guide
ATTACH;FMTTYPE=image/jpeg:https://fakce.org/wp-content/uploads/2024/06/tal
 king-adoption-kids-teens-the-talk.jpg
CATEGORIES:Classes,Online Classes,Specialty Classes
LOCATION:Zoom\, 0000 Zoom \, San Diego\, United States
X-APPLE-STRUCTURED-LOCATION;VALUE=URI;X-ADDRESS=0000 Zoom \, San Diego\, Un
 ited States;X-APPLE-RADIUS=100;X-TITLE=Zoom:geo:0,0
END:VEVENT
BEGIN:VTIMEZONE
TZID:America/Los_Angeles
X-LIC-LOCATION:America/Los_Angeles
BEGIN:STANDARD
DTSTART:20251102T010000
TZOFFSETFROM:-0700
TZOFFSETTO:-0800
TZNAME:PST
END:STANDARD
END:VTIMEZONE
END:VCALENDAR