BEGIN:VCALENDAR
VERSION:2.0
PRODID:-//wp-events-plugin.com//7.2.3.1//EN
TZID:America/Los_Angeles
X-WR-TIMEZONE:America/Los_Angeles
BEGIN:VEVENT
UID:17441@fakce.org
DTSTART;TZID=America/Los_Angeles:20260310T100000
DTEND;TZID=America/Los_Angeles:20260310T120000
DTSTAMP:20260309T223226Z
URL:https://fakce.org/events/online-qpi-partnership-north-central-office-t
 he-importance-of-teaming-during-the-first-30-days-of-placement-2026-03-10/
SUMMARY:Online | QPI Partnership- North Central Office: The Importance of T
 eaming During the First 30 Days of Placement
DESCRIPTION:In collaboration with Child and Family Well-Being (CFWB)\n\nPle
 ase join us for our 2026 QPI Partnership event for resource parents and so
 cial workers.\nCome and meet our Regional QPI Ambassadors &amp\; Resource 
 Families.\nTopic: This training focuses on the importance of teamwork dur
 ing the first 30 days of placement. Caregivers will learn key questions to
  ask placement workers\, how to assess fit\, and how collaboration with pa
 rtners supports stability and reduces placement disruptions.\n&nbsp\;
ATTACH;FMTTYPE=image/jpeg:https://fakce.org/wp-content/uploads/2017/03/QPI
 _LogoArt_CA202.png
CATEGORIES:Classes,Online Classes,Support Groups,Workshops
LOCATION:Zoom\, 0000 Zoom \, San Diego\, United States
X-APPLE-STRUCTURED-LOCATION;VALUE=URI;X-ADDRESS=0000 Zoom \, San Diego\, Un
 ited States;X-APPLE-RADIUS=100;X-TITLE=Zoom:geo:0,0
END:VEVENT
BEGIN:VTIMEZONE
TZID:America/Los_Angeles
X-LIC-LOCATION:America/Los_Angeles
BEGIN:DAYLIGHT
DTSTART:20260308T030000
TZOFFSETFROM:-0800
TZOFFSETTO:-0700
TZNAME:PDT
END:DAYLIGHT
END:VTIMEZONE
END:VCALENDAR