BEGIN:VCALENDAR
VERSION:2.0
PRODID:-//wp-events-plugin.com//7.2.3.1//EN
TZID:America/Los_Angeles
X-WR-TIMEZONE:America/Los_Angeles
BEGIN:VEVENT
UID:14224@fakce.org
DTSTART;TZID=America/Los_Angeles:20220421T180000
DTEND;TZID=America/Los_Angeles:20220421T210000
DTSTAMP:20220211T174810Z
URL:https://fakce.org/events/online-practical-tips-for-parenting-teens-202
 2-04-21/
SUMMARY:Online |  Practical Tips for Parenting Teens
DESCRIPTION:Parenting teens can be daunting\, but it shouldn't be! Parentin
 g teens is a matter of becoming an expert in adolescent development and p
 roviding what teens need most: love\, boundaries\, guidance\, love and pow
 er. Join us to learn helpful tips and success secrets to guide you in this
  very dynamic stage in your family’s growth.\nRegistration will close on
  Thursday\, April 21\, 2022 at 7 am\n&nbsp\;\n***Please Note: This class w
 ill be facilitated on the online platform called Zoom. Internet access and
  access to a computer/laptop/tablet/smartphone is required to attend.\nThe
  link to attend this class will be provided at registration.\nPlease follo
 w the link below for a brief tutorial on how to sign up for a free Zoom ac
 count.\nZoom User Guide
ATTACH;FMTTYPE=image/jpeg:https://fakce.org/wp-content/uploads/2016/08/o-C
 LASSROOM-facebook.jpg
CATEGORIES:Classes,Online Classes,Specialty Classes
LOCATION:Zoom\, 0000 Zoom \, San Diego\, United States
X-APPLE-STRUCTURED-LOCATION;VALUE=URI;X-ADDRESS=0000 Zoom \, San Diego\, Un
 ited States;X-APPLE-RADIUS=100;X-TITLE=Zoom:geo:0,0
END:VEVENT
BEGIN:VTIMEZONE
TZID:America/Los_Angeles
X-LIC-LOCATION:America/Los_Angeles
BEGIN:DAYLIGHT
DTSTART:20220313T030000
TZOFFSETFROM:-0800
TZOFFSETTO:-0700
TZNAME:PDT
END:DAYLIGHT
END:VTIMEZONE
END:VCALENDAR