BEGIN:VCALENDAR
VERSION:2.0
PRODID:-//wp-events-plugin.com//7.2.3.1//EN
TZID:America/Los_Angeles
X-WR-TIMEZONE:America/Los_Angeles
BEGIN:VEVENT
UID:16504@fakce.org
DTSTART;TZID=America/Los_Angeles:20260313T180000
DTEND;TZID=America/Los_Angeles:20260313T200000
DTSTAMP:20260312T181516Z
URL:https://fakce.org/events/online-positive-parenting-positive-discipline
 -support-group-a-z-27-strategies-for-everyday-parenting-part-2-2026-03-13/
SUMMARY:Online | Positive Parenting / Positive Discipline Support Group: A-
 Z 27 Strategies for Everyday Parenting part 2
DESCRIPTION:Meets every 2nd Friday of the Month\n**No meeting February 2026
 **\nLeader: Carrie Collins\n\nThis support group will focus on positive pa
 renting/discipline. Caregivers will learn that kids are all different and 
 even the best parenting will never create the “perfect child”. Once we
  understand that there are no perfect parents and no one-size-fits-all app
 roach to parenting kids\, only then will you be able to be the best parent
  you can be.\n\nTopic: In Positive Discipline A to Z\, you'll find practic
 al solutions to such parenting challenges such as sibling rivalry\, bedtim
 e hassles\, school problems\, getting chores done\, eating problems\, whin
 ing\, lying and stealing\, aggression\, and much more. Join us for an inte
 ractive workshop where you will learn some tips that can help. Join us for
  an interactive workshop where you will learn some tips that can help alle
 viate some of those challenging behaviors.\n***Please Note: This class wil
 l be facilitated on the Zoom platform.\n Internet access and access to a c
 omputer/laptop/tablet/smartphone is required to attend.\nFor our support g
 roup meetings\, all participants must have their cameras on\, regardless 
 of whether they are seeking credit or not. This requirement is designed to
  encourage full engagement and connection among participants\, fostering a
  more supportive atmosphere within our community. Please note that individ
 uals unable to participate with their cameras on will not be able to join 
 the support group sessions.\nWe kindly request that participants avoid usi
 ng distracting virtual backgrounds. For privacy\, we recommend using the b
 lur feature instead.\nYou cannot take this class in a vehicle.\nThe link t
 o attend this class will be provided via email.\nPlease follow the link be
 low for a brief tutorial on how to sign up for a free Zoom account.\nZoom 
 User Guide
ATTACH;FMTTYPE=image/jpeg:https://fakce.org/wp-content/uploads/2015/04/Pos
 itive-Discipline-from-A-Z.jpg
CATEGORIES:Classes,Online Classes,Support Groups,Workshops
LOCATION:Zoom\, 0000 Zoom \, San Diego\, United States
X-APPLE-STRUCTURED-LOCATION;VALUE=URI;X-ADDRESS=0000 Zoom \, San Diego\, Un
 ited States;X-APPLE-RADIUS=100;X-TITLE=Zoom:geo:0,0
END:VEVENT
BEGIN:VTIMEZONE
TZID:America/Los_Angeles
X-LIC-LOCATION:America/Los_Angeles
BEGIN:DAYLIGHT
DTSTART:20260308T030000
TZOFFSETFROM:-0800
TZOFFSETTO:-0700
TZNAME:PDT
END:DAYLIGHT
END:VTIMEZONE
END:VCALENDAR