BEGIN:VCALENDAR
VERSION:2.0
PRODID:-//wp-events-plugin.com//7.2.3.1//EN
TZID:America/Los_Angeles
X-WR-TIMEZONE:America/Los_Angeles
BEGIN:VEVENT
UID:14238@fakce.org
DTSTART;TZID=America/Los_Angeles:20220430T090000
DTEND;TZID=America/Los_Angeles:20220430T153000
DTSTAMP:20220211T194838Z
URL:https://fakce.org/events/online-positive-discipline-solutions-for-ever
 yday-parenting-2022-04-30/
SUMMARY:Online |  Positive Discipline Solutions for Everyday Parenting
DESCRIPTION:This class will give an overview of the history of the Positive
  Discipline and how it has developed into an eﬀective parenting strateg
 y for all children\, including children in foster care. Participant will l
 earn the diﬀerence between discipline and punishment and how using posit
 ive discipline techniques can be more eﬀective. Participants will explor
 e child and brain development\, the impact of trauma and learn eﬀective 
 parenting techniques to use everyday.\nRegistration will close on  Thursd
 ay\, April 29\, 2022 at 12 pm\n&nbsp\;\n***Please Note: This class will be
  facilitated on the online platform called Zoom. Internet access and acces
 s to a computer/laptop/tablet/smartphone is required to attend.\nThe link 
 to attend this class will be provided at registration.\nPlease follow the 
 link below for a brief tutorial on how to sign up for a free Zoom account.
 \nZoom User Guide
ATTACH;FMTTYPE=image/jpeg:https://fakce.org/wp-content/uploads/2016/08/o-C
 LASSROOM-facebook.jpg
CATEGORIES:Classes,Online Classes,Specialty Classes
LOCATION:Zoom\, 0000 Zoom \, San Diego\, United States
X-APPLE-STRUCTURED-LOCATION;VALUE=URI;X-ADDRESS=0000 Zoom \, San Diego\, Un
 ited States;X-APPLE-RADIUS=100;X-TITLE=Zoom:geo:0,0
END:VEVENT
BEGIN:VTIMEZONE
TZID:America/Los_Angeles
X-LIC-LOCATION:America/Los_Angeles
BEGIN:DAYLIGHT
DTSTART:20220313T030000
TZOFFSETFROM:-0800
TZOFFSETTO:-0700
TZNAME:PDT
END:DAYLIGHT
END:VTIMEZONE
END:VCALENDAR