BEGIN:VCALENDAR
VERSION:2.0
PRODID:-//wp-events-plugin.com//7.2.3.1//EN
TZID:America/Los_Angeles
X-WR-TIMEZONE:America/Los_Angeles
BEGIN:VEVENT
UID:17525@fakce.org
DTSTART;TZID=America/Los_Angeles:20250124T180000
DTEND;TZID=America/Los_Angeles:20250124T210000
DTSTAMP:20241218T202021Z
URL:https://fakce.org/events/online-positive-discipline-a%e2%80%90z-2025-0
 1-24/
SUMMARY:Online | Positive Discipline A‐Z
DESCRIPTION:Instructors: Robin Thompson\, MSW &amp\; MaryAnn Paschal\, Reso
 urce/Adoptive Parent\nIn Positive Discipline A to Z\, you'll find practica
 l solutions to such parenting challenges such as sibling rivalry\, bedtime
  hassles\, school problems\, getting chores done\, eating problems\, whini
 ng\, lying and stealing\, aggression and much more. Join us for an interac
 tive workshop where you will learn some tips that can  30 help alleviate 
 some of those challenging behaviors.\n&nbsp\;\nRegistration will close on 
 Friday\, January 24\, 2025 at 7 am \n***Please Note: This class will be f
 acilitated on the Zoom platform.\nInternet access and access to a computer
 /laptop/tablet/smartphone is required to attend.\nWe kindly request that p
 articipants avoid using distracting virtual backgrounds. For privacy\, we 
 recommend using the blur feature instead.\nYou cannot take this class in a
  vehicle.\nThe Zoom link to attend this class will be provided via email.\
 nPlease follow the link below for a brief tutorial on how to sign up for a
  free Zoom account.\nZoom User Guide
ATTACH;FMTTYPE=image/jpeg:https://fakce.org/wp-content/uploads/2024/06/tal
 king-adoption-kids-teens-the-talk.jpg
CATEGORIES:Classes,Online Classes,Specialty Classes
LOCATION:Zoom\, 0000 Zoom \, San Diego\, United States
X-APPLE-STRUCTURED-LOCATION;VALUE=URI;X-ADDRESS=0000 Zoom \, San Diego\, Un
 ited States;X-APPLE-RADIUS=100;X-TITLE=Zoom:geo:0,0
END:VEVENT
BEGIN:VTIMEZONE
TZID:America/Los_Angeles
X-LIC-LOCATION:America/Los_Angeles
BEGIN:STANDARD
DTSTART:20241103T010000
TZOFFSETFROM:-0700
TZOFFSETTO:-0800
TZNAME:PST
END:STANDARD
END:VTIMEZONE
END:VCALENDAR