BEGIN:VCALENDAR
VERSION:2.0
PRODID:-//wp-events-plugin.com//7.2.3.1//EN
TZID:America/Los_Angeles
X-WR-TIMEZONE:America/Los_Angeles
BEGIN:VEVENT
UID:17313@fakce.org
DTSTART;TZID=America/Los_Angeles:20241207T090000
DTEND;TZID=America/Los_Angeles:20241207T153000
DTSTAMP:20241204T223345Z
URL:https://fakce.org/events/online-positive-discipline-%e2%80%90-solution
 s-for-everyday-parenting-2024-12-07/
SUMMARY:Online | Positive Discipline ‐ Solutions for Everyday Parenting
DESCRIPTION:Instructors: Heidi Blue\, MSW &amp\; Carrie Collins\, Resource/
 Adoptive Parent\nResource Parents will learn the history and basic princip
 les of Positive Discipline\, diﬀerence between discipline and punishment
  and explore ways to use logical and natural consequences on children\, es
 pecially those from foster care impacted by trauma.\n&nbsp\;\nRegistration
  will close on Friday\, December 6\, 2024 at 12pm \n***Please Note: This
  support group will be facilitated on the online platform called Zoom. Int
 ernet access and access to a computer/laptop/tablet/smartphone is required
  to attend.\nThe link to attend this class will be provided at registratio
 n.\nPlease follow the link below for a brief tutorial on how to sign up fo
 r a free Zoom account.\nZoom User Guide
ATTACH;FMTTYPE=image/jpeg:https://fakce.org/wp-content/uploads/2021/05/Fly
 ing-Boy.jpg
CATEGORIES:Classes,Online Classes,Specialty Classes
LOCATION:Zoom\, 0000 Zoom \, San Diego\, United States
X-APPLE-STRUCTURED-LOCATION;VALUE=URI;X-ADDRESS=0000 Zoom \, San Diego\, Un
 ited States;X-APPLE-RADIUS=100;X-TITLE=Zoom:geo:0,0
END:VEVENT
BEGIN:VTIMEZONE
TZID:America/Los_Angeles
X-LIC-LOCATION:America/Los_Angeles
BEGIN:STANDARD
DTSTART:20241103T010000
TZOFFSETFROM:-0700
TZOFFSETTO:-0800
TZNAME:PST
END:STANDARD
END:VTIMEZONE
END:VCALENDAR