BEGIN:VCALENDAR
VERSION:2.0
PRODID:-//wp-events-plugin.com//7.2.3.1//EN
TZID:America/Los_Angeles
X-WR-TIMEZONE:America/Los_Angeles
BEGIN:VEVENT
UID:14199@fakce.org
DTSTART;TZID=America/Los_Angeles:20220405T180000
DTEND;TZID=America/Los_Angeles:20220405T210000
DTSTAMP:20220210T003046Z
URL:https://fakce.org/events/online-playful-parenting-2022-04-05/
SUMMARY:Online |  Playful Parenting
DESCRIPTION:Have you ever just watched your child play? Play is a child’s
  ﬁrst\, best job to gain skills needed to communicate\, form relationsh
 ips\, work through diﬃcult situations\, express and understand emotions\
 , work through shyness or fear\, learn to be empowered\, respect diversity
 \, handle sibling rivalry\, cooperate and collaborate with others. We will
  explore the importance of play and how to use it to raise conﬁdent\, ca
 ring\, capable kids. Helping parents to use the power of play to keep laug
 hter\, joy\, and enthusiasm in our day‐to‐day parenting toolbox.\nRegi
 stration will close on Tuesday\, April 5\, 2022\, at 7 am\n***Please Note:
  This class will be facilitated on the online platform called Zoom. Intern
 et access and access to a computer/laptop/tablet/smartphone is required to
  attend.\nThe link to attend this class will be provided at registration.\
 nPlease follow the link below for a brief tutorial on how to sign up for a
  free Zoom account.\nZoom User Guide
ATTACH;FMTTYPE=image/jpeg:https://fakce.org/wp-content/uploads/2016/08/o-C
 LASSROOM-facebook.jpg
CATEGORIES:Classes,Online Classes,Specialty Classes
LOCATION:Zoom\, 0000 Zoom \, San Diego\, United States
X-APPLE-STRUCTURED-LOCATION;VALUE=URI;X-ADDRESS=0000 Zoom \, San Diego\, Un
 ited States;X-APPLE-RADIUS=100;X-TITLE=Zoom:geo:0,0
END:VEVENT
BEGIN:VTIMEZONE
TZID:America/Los_Angeles
X-LIC-LOCATION:America/Los_Angeles
BEGIN:DAYLIGHT
DTSTART:20220313T030000
TZOFFSETFROM:-0800
TZOFFSETTO:-0700
TZNAME:PDT
END:DAYLIGHT
END:VTIMEZONE
END:VCALENDAR