BEGIN:VCALENDAR
VERSION:2.0
PRODID:-//wp-events-plugin.com//7.2.3.1//EN
TZID:America/Los_Angeles
X-WR-TIMEZONE:America/Los_Angeles
BEGIN:VEVENT
UID:15632@fakce.org
DTSTART;TZID=America/Los_Angeles:20230413T140000
DTEND;TZID=America/Los_Angeles:20230413T170000
DTSTAMP:20230216T220306Z
URL:https://fakce.org/events/online-part-3-helping-your-child-develop-self
 %e2%80%90regulation-the-key-to-lifelong-success-2023-04-13/
SUMMARY:Online | Part 3: Helping Your Child Develop Self‐Regulation The K
 ey to Lifelong Success
DESCRIPTION:Your child’s behavior tells you what is happening inside thei
 r world. By understanding social emotional development\, we learn the lang
 uage of our child’s behavior. We can help a child’s behavior with comp
 assion.\n\n&nbsp\;\n\n&nbsp\;\n\nSpecial Guest Speaker: Dr. Pradeep Gidwan
 i is a pediatrician and community health leader focused on creating system
 atic solutions and changes to improve the lives of children and their fami
 lies. His expertise includes child development\, Infant and Early Childhoo
 d Mental Health\, childhood trauma\, parents’ perception of childhood be
 haviors\, and cultural issues in health care. Dr. Gidwani is currently the
  Medical Director at the American Academy of Pediatrics\, CA Chapter 3 (AA
 P‐CA3) of two countywide projects\, Healthy Development Services and Fir
 st 5 First Steps family support program. He is also a Child Trauma Academy
  Fellow and a member of the Child Health Leadership Network through the An
 nie E. Casey and David and Lucile Packard Foundations. Dr. Gidwani also te
 aches at San Diego State University in the Department of Child and Family 
 Development.\nRegistration will close on Thursday\, April 13\, 2023 at 7 a
 m \n***Please Note: This class will be facilitated on the online platfor
 m called Zoom. Internet access and access to a computer/laptop/tablet/smar
 tphone is required to attend.\nThe link to attend this class will be provi
 ded at registration.\nPlease follow the link below for a brief tutorial on
  how to sign up for a free Zoom account.\nZoom User Guide
ATTACH;FMTTYPE=image/jpeg:https://fakce.org/wp-content/uploads/2016/08/Fat
 her-reading-to-child.jpg
CATEGORIES:Classes,Online Classes,Specialty Classes
LOCATION:Zoom\, 0000 Zoom \, San Diego\, United States
X-APPLE-STRUCTURED-LOCATION;VALUE=URI;X-ADDRESS=0000 Zoom \, San Diego\, Un
 ited States;X-APPLE-RADIUS=100;X-TITLE=Zoom:geo:0,0
END:VEVENT
BEGIN:VTIMEZONE
TZID:America/Los_Angeles
X-LIC-LOCATION:America/Los_Angeles
BEGIN:DAYLIGHT
DTSTART:20230312T030000
TZOFFSETFROM:-0800
TZOFFSETTO:-0700
TZNAME:PDT
END:DAYLIGHT
END:VTIMEZONE
END:VCALENDAR