BEGIN:VCALENDAR
VERSION:2.0
PRODID:-//wp-events-plugin.com//7.2.3.1//EN
TZID:America/Los_Angeles
X-WR-TIMEZONE:America/Los_Angeles
BEGIN:VEVENT
UID:17889@fakce.org
DTSTART;TZID=America/Los_Angeles:20250826T180000
DTEND;TZID=America/Los_Angeles:20250826T210000
DTSTAMP:20250804T203611Z
URL:https://fakce.org/events/online-part-2-road-to-recovery-supporting-chi
 ldren-and-you-with-intellectual-developmental-disabilities-who-have-experi
 enced-trauma-2025-08-26/
SUMMARY:Online | Part 2 - Road to Recovery: Supporting Children (and You) w
 ith Intellectual Developmental Disabilities Who have Experienced Trauma
DESCRIPTION:A 3 Part Series \nInstructors: Diana Macis\, MSW &amp\; MaryAn
 n Paschal\, Resource/Adoptive Parent\n\nDescription: This series will prov
 ide an essential overview on how to work with children and families who ar
 e living with intellectual and development disabilities (IDD) and have exp
 erienced trauma. The Road to Recovery: Supporting Children with Intellectu
 al and Developmental Disabilities Who Have Experienced Trauma is a trainin
 g that is designed to teach basic knowledge\, skills\, and values about wo
 rking with children with IDD who have had traumatic experiences\, and how 
 to use this knowledge to support children's safety\, well‐being\, happin
 ess\, and recovery through trauma‐informed practice. These critical work
 shops are not to be missed!\n\nUpcoming Sessions: \n\n 	Part 3 | Tuesday\
 , August 28th: Click Here to Register\n\n&nbsp\;\n***Please Note: This cla
 ss will be facilitated on the Zoom platform.\nInternet access and access t
 o a computer/laptop/tablet/smartphone is required to attend.\nWe kindly re
 quest that participants avoid using distracting virtual backgrounds. For p
 rivacy\, we recommend using the blur feature instead.\nYou cannot take thi
 s class in a vehicle.\nThe Zoom link to attend this class will be provided
  via email.\nPlease follow the link below for a brief tutorial on how to s
 ign up for a free Zoom account.\nZoom User Guide
ATTACH;FMTTYPE=image/jpeg:https://fakce.org/wp-content/uploads/2016/05/pok
 wxgalck.jpg
CATEGORIES:Classes,Online Classes,Specialty Classes
LOCATION:Zoom\, 0000 Zoom \, San Diego\, United States
X-APPLE-STRUCTURED-LOCATION;VALUE=URI;X-ADDRESS=0000 Zoom \, San Diego\, Un
 ited States;X-APPLE-RADIUS=100;X-TITLE=Zoom:geo:0,0
END:VEVENT
BEGIN:VTIMEZONE
TZID:America/Los_Angeles
X-LIC-LOCATION:America/Los_Angeles
BEGIN:DAYLIGHT
DTSTART:20250309T030000
TZOFFSETFROM:-0800
TZOFFSETTO:-0700
TZNAME:PDT
END:DAYLIGHT
END:VTIMEZONE
END:VCALENDAR