BEGIN:VCALENDAR
VERSION:2.0
PRODID:-//wp-events-plugin.com//7.2.3.1//EN
TZID:America/Los_Angeles
X-WR-TIMEZONE:America/Los_Angeles
BEGIN:VEVENT
UID:18058@fakce.org
DTSTART;TZID=America/Los_Angeles:20251209T150000
DTEND;TZID=America/Los_Angeles:20251209T180000
DTSTAMP:20251121T215803Z
URL:https://fakce.org/events/online-part-2-keep-your-cool-and-teach-kids-t
 o-calm-down-2025-12-09/
SUMMARY:Online | Part 2: Keep Your Cool and Teach Kids to Calm Down
DESCRIPTION:Description: In part 2\, participants will revisit what was le
 arned in part 1 and continue to learn how trauma trigger buttons get wired
  in and how to de‐program them!\n\nThe Foster-Adoptive Parents Toolshop
 ® training series is a comprehensive 30+ hour evidence-based\, trauma inf
 ormed parenting curriculum for foster and kinship caregivers and adoptive 
 parents. \nWhile each individual workshop is valuable as a stand-alone wo
 rkshop\, when combined they create a parenting system called The Universal
  Blueprint® for Parenting Success. You can use this universal system to p
 revent common parenting challenges and plan personalized responses and sol
 utions to those that arise\, based on the child\, circumstance\, and famil
 y involved. The series oﬀers an overview of the system and its tools\, p
 lus the in-depth workshops in order\, so they build on each other.\nDon’
 t worry if you can’t take them all\, you can take one\, some or as many 
 as you wish!  Please note there are some 2- part trainings. You must atte
 nd both sessions to get credit.\nGuest Instructor: Jody Johnston-Pawel\, L
 SW\, CFLE\nJody Johnston Pawel is a Licensed Social Worker in the State of
  Ohio and a Certified Family Life Educator. She is the author of the award
 -winning The Parent’s Toolshop® book and Founder/CEO of the Relationshi
 p Toolshop® International Training Institute. LLC.\n\n&nbsp\;\n***Please 
 Note: This class will be facilitated on the online platform called Zoom. I
 nternet access and access to a computer/laptop/tablet/smartphone is requir
 ed to attend.\nThe link to attend this class will be provided at registrat
 ion.\nPlease follow the link below for a brief tutorial on how to sign up 
 for a free Zoom account.\nZoom User Guide
ATTACH;FMTTYPE=image/jpeg:https://fakce.org/wp-content/uploads/2023/04/ist
 ockphoto-920732910-612x612-1.jpg
CATEGORIES:Classes,Online Classes,Specialty Classes
LOCATION:Zoom\, 0000 Zoom \, San Diego\, United States
X-APPLE-STRUCTURED-LOCATION;VALUE=URI;X-ADDRESS=0000 Zoom \, San Diego\, Un
 ited States;X-APPLE-RADIUS=100;X-TITLE=Zoom:geo:0,0
END:VEVENT
BEGIN:VTIMEZONE
TZID:America/Los_Angeles
X-LIC-LOCATION:America/Los_Angeles
BEGIN:STANDARD
DTSTART:20251102T010000
TZOFFSETFROM:-0700
TZOFFSETTO:-0800
TZNAME:PST
END:STANDARD
END:VTIMEZONE
END:VCALENDAR