BEGIN:VCALENDAR
VERSION:2.0
PRODID:-//wp-events-plugin.com//7.2.3.1//EN
TZID:America/Los_Angeles
X-WR-TIMEZONE:America/Los_Angeles
BEGIN:VEVENT
UID:17310@fakce.org
DTSTART;TZID=America/Los_Angeles:20241205T090000
DTEND;TZID=America/Los_Angeles:20241205T120000
DTSTAMP:20241203T221930Z
URL:https://fakce.org/events/online-part-2-keep-your-cool-and-teach-kids-t
 o-calm-down-2024-12-05/
SUMMARY:Online | Part 2: Keep Your Cool and Teach Kids to Calm Down
DESCRIPTION:Description: In part 2\, participants will revisit what was le
 arned in part 1 and continue to learn how trauma trigger buttons get wired
  in and how to de‐program them!\n\n\nRegistration will close on Wednesda
 y\, December 4\, 2024\, at 12 pm\nThe Foster-Adoptive Parents Toolshop® t
 raining series is a comprehensive 30+ hour evidence-based\, trauma informe
 d parenting curriculum for foster and kinship caregivers and adoptive pare
 nts. The entire series will be oﬀered over the next 8 months\, September
  2022\, June 2023 and will be taught by the curriculum’s author Jody Joh
 nston Pawel\, LSW\, CFLE\, CTSS.\nWhile each individual workshop is valuab
 le as a stand-alone workshop\, when combined they create a parenting syste
 m called The Universal Blueprint® for Parenting Success. You can use this
  universal system to prevent common parenting challenges and plan personal
 ized responses and solutions to those that arise\, based on the child\, ci
 rcumstance\, and family involved. The series oﬀers an overview of the sy
 stem and its tools\, plus the in-depth workshops in order\, so they build 
 on each other.\nDon’t worry if you can’t take them all\, you can take 
 one\, some or as many as you wish! The Series will be oﬀered on the 2nd 
 and 4th Mondays from September 2022 to June 2023 from 3-6pm. Please note t
 here are some 2- part trainings. You must attend both sessions to get cred
 it.\nGuest Instructor: Jody Johnston-Pawel\, LSW\, CFLE\nJody Johnston Paw
 el is a Licensed Social Worker in the State of Ohio and a Certified Family
  Life Educator. She is the author of the award-winning The Parent’s Tool
 shop® book and Founder/CEO of the Relationship Toolshop® International T
 raining Institute. LLC.\n\n&nbsp\;\n***Please Note: This class will be fac
 ilitated on the online platform called Zoom. Internet access and access to
  a computer/laptop/tablet/smartphone is required to attend.\nThe link to a
 ttend this class will be provided at registration.\nPlease follow the link
  below for a brief tutorial on how to sign up for a free Zoom account.\nZo
 om User Guide
ATTACH;FMTTYPE=image/jpeg:https://fakce.org/wp-content/uploads/2023/04/ist
 ockphoto-920732910-612x612-1.jpg
CATEGORIES:Classes,Online Classes,Specialty Classes
LOCATION:Zoom\, 0000 Zoom \, San Diego\, United States
X-APPLE-STRUCTURED-LOCATION;VALUE=URI;X-ADDRESS=0000 Zoom \, San Diego\, Un
 ited States;X-APPLE-RADIUS=100;X-TITLE=Zoom:geo:0,0
END:VEVENT
BEGIN:VTIMEZONE
TZID:America/Los_Angeles
X-LIC-LOCATION:America/Los_Angeles
BEGIN:STANDARD
DTSTART:20241103T010000
TZOFFSETFROM:-0700
TZOFFSETTO:-0800
TZNAME:PST
END:STANDARD
END:VTIMEZONE
END:VCALENDAR