BEGIN:VCALENDAR
VERSION:2.0
PRODID:-//wp-events-plugin.com//7.2.3.1//EN
TZID:America/Los_Angeles
X-WR-TIMEZONE:America/Los_Angeles
BEGIN:VEVENT
UID:15608@fakce.org
DTSTART;TZID=America/Los_Angeles:20230330T140000
DTEND;TZID=America/Los_Angeles:20230330T170000
DTSTAMP:20230214T174045Z
URL:https://fakce.org/events/online-part-1-your-childs-development-the-key
 -to-helping-children-physically-emotionally-mentally-and-socially-grow-202
 3-03-30/
SUMMARY:Online | Part 1: Your Child’s Development: The Key to Helping Chi
 ldren Physically\, Emotionally\, Mentally\, and Socially Grow
DESCRIPTION:In this session\, we learn how to monitor your child’s develo
 pment and how you can help them to grow. We will explore activities at hom
 e to help your child’s development and when to reach out for help. We wi
 ll explore the resources available in our community.\n\n&nbsp\;\n\nSpecial
  Guest Speaker: Dr. Pradeep Gidwani is a pediatrician and community health
  leader focused on creating systematic solutions and changes to improve th
 e lives of children and their families. His expertise includes child devel
 opment\, Infant and Early Childhood Mental Health\, childhood trauma\, par
 ents’ perception of childhood behaviors\, and cultural issues in health 
 care. Dr. Gidwani is currently the Medical Director at the American Academ
 y of Pediatrics\, CA Chapter 3 (AAP‐CA3) of two countywide projects\, He
 althy Development Services and First 5 First Steps family support program.
  He is also a Child Trauma Academy Fellow and a member of the Child Health
  Leadership Network through the Annie E. Casey and David and Lucile Packar
 d Foundations. Dr. Gidwani also teaches at San Diego State University in t
 he Department of Child and Family Development.\nRegistration will close on
  Thursday\, March 30\, 2023 at 7 am \n***Please Note: This class will be
  facilitated on the online platform called Zoom. Internet access and acces
 s to a computer/laptop/tablet/smartphone is required to attend.\nThe link 
 to attend this class will be provided at registration.\nPlease follow the 
 link below for a brief tutorial on how to sign up for a free Zoom account.
 \nZoom User Guide
ATTACH;FMTTYPE=image/jpeg:https://fakce.org/wp-content/uploads/2021/05/Gir
 l-With-Spyglass.jpg
CATEGORIES:Classes,Online Classes,Specialty Classes
LOCATION:Zoom\, 0000 Zoom \, San Diego\, United States
X-APPLE-STRUCTURED-LOCATION;VALUE=URI;X-ADDRESS=0000 Zoom \, San Diego\, Un
 ited States;X-APPLE-RADIUS=100;X-TITLE=Zoom:geo:0,0
END:VEVENT
BEGIN:VTIMEZONE
TZID:America/Los_Angeles
X-LIC-LOCATION:America/Los_Angeles
BEGIN:DAYLIGHT
DTSTART:20230312T030000
TZOFFSETFROM:-0800
TZOFFSETTO:-0700
TZNAME:PDT
END:DAYLIGHT
END:VTIMEZONE
END:VCALENDAR