BEGIN:VCALENDAR
VERSION:2.0
PRODID:-//wp-events-plugin.com//7.2.3.1//EN
TZID:America/Los_Angeles
X-WR-TIMEZONE:America/Los_Angeles
BEGIN:VEVENT
UID:17888@fakce.org
DTSTART;TZID=America/Los_Angeles:20250821T180000
DTEND;TZID=America/Los_Angeles:20250821T210000
DTSTAMP:20250820T172237Z
URL:https://fakce.org/events/online-part-1-road-to-recovery-supporting-chi
 ldren-with-intellectual-developmental-disabilities-who-have-experienced-tr
 auma-2025-08-21/
SUMMARY:Online | Part 1 - Road to Recovery: Supporting Children with Intell
 ectual Developmental Disabilities Who have Experienced Trauma
DESCRIPTION:A 3 Part Series \nInstructors: Diana Macis\, MSW &amp\; MaryAn
 n Paschal\, Resource/Adoptive Parent\n\nDescription: This series will prov
 ide an essential overview on how to work with children and families who ar
 e living with intellectual and development disabilities (IDD) and have exp
 erienced trauma. The Road to Recovery: Supporting Children with Intellectu
 al and Developmental Disabilities Who Have Experienced Trauma is a trainin
 g that is designed to teach basic knowledge\, skills\, and values about wo
 rking with children with IDD who have had traumatic experiences\, and how 
 to use this knowledge to support children's safety\, well‐being\, happin
 ess\, and recovery through trauma‐informed practice. These critical work
 shops are not to be missed!\n\nUpcoming Sessions: \n\n 	Part 2 | Tuesday\
 , August 26th: Click Here to Register\n 	Part 3 | Thursday\, August 28th: 
 Click Here to Register\n\nPlease note: While you are welcome to register f
 or individual sessions\, if you register for Part 1 you will automatically
  be enrolled in all 3 sessions. This option is recommended for those plann
 ing to attend the full series.\n***Please Note: This class will be facilit
 ated on the Zoom platform.\nInternet access and access to a computer/lapto
 p/tablet/smartphone is required to attend.\nWe kindly request that partici
 pants avoid using distracting virtual backgrounds. For privacy\, we recomm
 end using the blur feature instead.\nYou cannot take this class in a vehic
 le.\nThe Zoom link to attend this class will be provided via email.\nPleas
 e follow the link below for a brief tutorial on how to sign up for a free 
 Zoom account.\nZoom User Guide
ATTACH;FMTTYPE=image/jpeg:https://fakce.org/wp-content/uploads/2016/05/pok
 wxgalck.jpg
CATEGORIES:Classes,Online Classes,Specialty Classes
LOCATION:Zoom\, 0000 Zoom \, San Diego\, United States
X-APPLE-STRUCTURED-LOCATION;VALUE=URI;X-ADDRESS=0000 Zoom \, San Diego\, Un
 ited States;X-APPLE-RADIUS=100;X-TITLE=Zoom:geo:0,0
END:VEVENT
BEGIN:VTIMEZONE
TZID:America/Los_Angeles
X-LIC-LOCATION:America/Los_Angeles
BEGIN:DAYLIGHT
DTSTART:20250309T030000
TZOFFSETFROM:-0800
TZOFFSETTO:-0700
TZNAME:PDT
END:DAYLIGHT
END:VTIMEZONE
END:VCALENDAR