BEGIN:VCALENDAR
VERSION:2.0
PRODID:-//wp-events-plugin.com//7.2.3.1//EN
TZID:America/Los_Angeles
X-WR-TIMEZONE:America/Los_Angeles
BEGIN:VEVENT
UID:18047@fakce.org
DTSTART;TZID=America/Los_Angeles:20251201T150000
DTEND;TZID=America/Los_Angeles:20251201T180000
DTSTAMP:20251117T170729Z
URL:https://fakce.org/events/online-part-1-keep-your-cool-and-teach-kids-t
 o-calm-down-2025-12-01/
SUMMARY:Online | Part 1: Keep Your Cool and Teach Kids to Calm Down
DESCRIPTION:Description: In part 1\, participants will discover the two sim
 ple steps for helping any child create an individualized stress and anger 
 management plan. Learn the secrets of preventing stress and anger build‐
 ups. Learn trauma‐ healing techniques to clear trauma triggers and cellu
 lar memory ‐‐‐ safely and quickly.\n\n\nRegistration will close on S
 unday\, November 30\, 2025\, at 12 pm\n\nTo register for Part 2\, click he
 re\nThe Foster-Adoptive Parents Toolshop® training series is a comprehens
 ive 30+ hour evidence-based\, trauma informed parenting curriculum for fos
 ter and kinship caregivers and adoptive parents. \nWhile each individual 
 workshop is valuable as a stand-alone workshop\, when combined they create
  a parenting system called The Universal Blueprint® for Parenting Success
 . You can use this universal system to prevent common parenting challenges
  and plan personalized responses and solutions to those that arise\, based
  on the child\, circumstance\, and family involved. The series oﬀers an 
 overview of the system and its tools\, plus the in-depth workshops in orde
 r\, so they build on each other.\n.\nGuest Instructor: Jody Johnston-Pawel
 \, LSW\, CFLE\nJody Johnston Pawel is a Licensed Social Worker in the Stat
 e of Ohio and a Certified Family Life Educator. She is the author of the a
 ward-winning The Parent’s Toolshop® book and Founder/CEO of the Relatio
 nship Toolshop® International Training Institute. LLC.\n\n&nbsp\;\n***Ple
 ase Note: This class will be facilitated on the online platform called Zoo
 m. Internet access and access to a computer/laptop/tablet/smartphone is re
 quired to attend.\nThe link to attend this class will be provided at regis
 tration.\nPlease follow the link below for a brief tutorial on how to sign
  up for a free Zoom account.\nZoom User Guide
ATTACH;FMTTYPE=image/jpeg:https://fakce.org/wp-content/uploads/2023/04/ist
 ockphoto-920732910-612x612-1.jpg
CATEGORIES:Classes,Online Classes,Specialty Classes
LOCATION:Zoom\, 0000 Zoom \, San Diego\, United States
X-APPLE-STRUCTURED-LOCATION;VALUE=URI;X-ADDRESS=0000 Zoom \, San Diego\, Un
 ited States;X-APPLE-RADIUS=100;X-TITLE=Zoom:geo:0,0
END:VEVENT
BEGIN:VTIMEZONE
TZID:America/Los_Angeles
X-LIC-LOCATION:America/Los_Angeles
BEGIN:STANDARD
DTSTART:20251102T010000
TZOFFSETFROM:-0700
TZOFFSETTO:-0800
TZNAME:PST
END:STANDARD
END:VTIMEZONE
END:VCALENDAR